BEGIN:VCALENDAR
VERSION:2.0
PRODID:-//Fort Bend County Republican Party - ECPv6.14.0//NONSGML v1.0//EN
CALSCALE:GREGORIAN
METHOD:PUBLISH
X-WR-CALNAME:Fort Bend County Republican Party
X-ORIGINAL-URL:https://fbcgop.org
X-WR-CALDESC:Events for Fort Bend County Republican Party
REFRESH-INTERVAL;VALUE=DURATION:PT1H
X-Robots-Tag:noindex
X-PUBLISHED-TTL:PT1H
BEGIN:VTIMEZONE
TZID:America/Chicago
BEGIN:DAYLIGHT
TZOFFSETFROM:-0600
TZOFFSETTO:-0500
TZNAME:CDT
DTSTART:20220313T080000
END:DAYLIGHT
BEGIN:STANDARD
TZOFFSETFROM:-0500
TZOFFSETTO:-0600
TZNAME:CST
DTSTART:20221106T070000
END:STANDARD
END:VTIMEZONE
BEGIN:VEVENT
DTSTART;TZID=America/Chicago:20220823T133000
DTEND;TZID=America/Chicago:20220823T153000
DTSTAMP:20260420T123011
CREATED:20220812T224301Z
LAST-MODIFIED:20220812T224301Z
UID:10000037-1661261400-1661268600@fbcgop.org
SUMMARY:Precincts 1149 & 1006 Volunteer Kickoff
DESCRIPTION:Precincts 1149 & 1006 Volunteer Kickoff \nand \nMeet and Greet with Candidates \n  All Candidates welcome. \nSpring Creek BBQ\, 26802 FM1093\, Katy TX\, Tuesday August 23\, 6:30-8:30. \nHosted by Precinct Chairs\, John Greene and Debra Cates. \nemail: debra.cates@att.net \nphone: {832) 544-7381 \n 
URL:https://fbcgop.org/event/precincts-1149-1006-volunteer-kickoff/
LOCATION:Spring Creek BBQ\, 26802 FM 1093\, Katy\, TX\, 77494
GEO:29.6961308;-95.8410708
X-APPLE-STRUCTURED-LOCATION;VALUE=URI;X-ADDRESS=Spring Creek BBQ 26802 FM 1093 Katy TX 77494;X-APPLE-RADIUS=500;X-TITLE=26802 FM 1093:geo:-95.8410708,29.6961308
END:VEVENT
END:VCALENDAR