BEGIN:VCALENDAR
VERSION:2.0
PRODID:-//Fort Bend County Republican Party - ECPv6.14.0//NONSGML v1.0//EN
CALSCALE:GREGORIAN
METHOD:PUBLISH
X-ORIGINAL-URL:https://fbcgop.org
X-WR-CALDESC:Events for Fort Bend County Republican Party
REFRESH-INTERVAL;VALUE=DURATION:PT1H
X-Robots-Tag:noindex
X-PUBLISHED-TTL:PT1H
BEGIN:VTIMEZONE
TZID:America/Chicago
BEGIN:DAYLIGHT
TZOFFSETFROM:-0600
TZOFFSETTO:-0500
TZNAME:CDT
DTSTART:20250309T080000
END:DAYLIGHT
BEGIN:STANDARD
TZOFFSETFROM:-0500
TZOFFSETTO:-0600
TZNAME:CST
DTSTART:20251102T070000
END:STANDARD
END:VTIMEZONE
BEGIN:VEVENT
DTSTART;TZID=America/Chicago:20250301T170000
DTEND;TZID=America/Chicago:20250301T190000
DTSTAMP:20260422T211733
CREATED:20250226T200716Z
LAST-MODIFIED:20250226T200716Z
UID:10000247-1740848400-1740855600@fbcgop.org
SUMMARY:Politics and a Pinot
DESCRIPTION:
URL:https://fbcgop.org/event/politics-and-a-pinot/
LOCATION:Postino\, 23501 Cinco Ranch Blvd Ste D100\, Katy\, TX\, 77494
ATTACH;FMTTYPE=image/png:https://fbcgop.org/wp-content/uploads/2024/10/RWCK-Logo-2.png
GEO:29.7424509;-95.7755514
X-APPLE-STRUCTURED-LOCATION;VALUE=URI;X-ADDRESS=Postino 23501 Cinco Ranch Blvd Ste D100 Katy TX 77494;X-APPLE-RADIUS=500;X-TITLE=23501 Cinco Ranch Blvd Ste D100:geo:-95.7755514,29.7424509
END:VEVENT
END:VCALENDAR