BEGIN:VCALENDAR
VERSION:2.0
PRODID:-//Fort Bend County Republican Party - ECPv6.14.0//NONSGML v1.0//EN
CALSCALE:GREGORIAN
METHOD:PUBLISH
X-ORIGINAL-URL:https://fbcgop.org
X-WR-CALDESC:Events for Fort Bend County Republican Party
REFRESH-INTERVAL;VALUE=DURATION:PT1H
X-Robots-Tag:noindex
X-PUBLISHED-TTL:PT1H
BEGIN:VTIMEZONE
TZID:America/Chicago
BEGIN:DAYLIGHT
TZOFFSETFROM:-0600
TZOFFSETTO:-0500
TZNAME:CDT
DTSTART:20240310T080000
END:DAYLIGHT
BEGIN:STANDARD
TZOFFSETFROM:-0500
TZOFFSETTO:-0600
TZNAME:CST
DTSTART:20241103T070000
END:STANDARD
END:VTIMEZONE
BEGIN:VEVENT
DTSTART;TZID=America/Chicago:20241022T180000
DTEND;TZID=America/Chicago:20241022T203000
DTSTAMP:20260422T234124
CREATED:20241016T223931Z
LAST-MODIFIED:20241016T223931Z
UID:10000235-1729620000-1729629000@fbcgop.org
SUMMARY:Edward Krenek Campaign Fundraiser
DESCRIPTION:Join us for a Campaign Fundraiser supporting Edward Krenek. \nThe Right Experience and the Right Choice for the 400th District Court!
URL:https://fbcgop.org/event/edward-krenek-campaign-fundraiser/
LOCATION:Anthonie’s Market Grill\, 9108 FM 1489\, Simonton\, TX\, 77476
ATTACH;FMTTYPE=image/png:https://fbcgop.org/wp-content/uploads/2024/10/Screenshot-2024-10-16-at-5.34.55 PM.png
GEO:29.6836585;-95.978342
X-APPLE-STRUCTURED-LOCATION;VALUE=URI;X-ADDRESS=Anthonie’s Market Grill 9108 FM 1489 Simonton TX 77476;X-APPLE-RADIUS=500;X-TITLE=9108 FM 1489:geo:-95.978342,29.6836585
END:VEVENT
END:VCALENDAR