BEGIN:VCALENDAR
VERSION:2.0
PRODID:-//Fort Bend County Republican Party - ECPv6.14.0//NONSGML v1.0//EN
CALSCALE:GREGORIAN
METHOD:PUBLISH
X-WR-CALNAME:Fort Bend County Republican Party
X-ORIGINAL-URL:https://fbcgop.org
X-WR-CALDESC:Events for Fort Bend County Republican Party
REFRESH-INTERVAL;VALUE=DURATION:PT1H
X-Robots-Tag:noindex
X-PUBLISHED-TTL:PT1H
BEGIN:VTIMEZONE
TZID:America/Chicago
BEGIN:DAYLIGHT
TZOFFSETFROM:-0600
TZOFFSETTO:-0500
TZNAME:CDT
DTSTART:20220313T080000
END:DAYLIGHT
BEGIN:STANDARD
TZOFFSETFROM:-0500
TZOFFSETTO:-0600
TZNAME:CST
DTSTART:20221106T070000
END:STANDARD
END:VTIMEZONE
BEGIN:VEVENT
DTSTART;TZID=America/Chicago:20220827T090000
DTEND;TZID=America/Chicago:20220827T090000
DTSTAMP:20260422T204956
CREATED:20220822T124710Z
LAST-MODIFIED:20220822T125018Z
UID:10000071-1661590800-1661590800@fbcgop.org
SUMMARY:Door Knocking with Governor Abbott
DESCRIPTION:Gov. Greg Abbott to Join Fort Bend County GOP Block Walkers\nBecause of the organization and enthusiasm being displayed by the Fort Bend County Republican Party\, Gov. Greg Abbott will be heading our way to join in Saturday’s “Weekend of Action” block walking efforts. Please make plans to attend and get your friends and neighbors to help in this effort. To sign up\, please hit the Read More button below or click on THIS LINK. \n“Our block walking efforts are crucial to winning in November\,” said Fort Bend County GOP Chairman Bobby Eberle. “I’m honored that Gov. Abbott will be here personally to help us out. Block walking is a great opportunity to meet new voters and help spread the Republican message.” \nIt’s important to have a large group of volunteers at these block walking events. Our candidates are counting on us. Please spread the word and SIGN UP for this block walk on Saturday\, August 27.
URL:https://fbcgop.org/event/door-knocking-with-governor-abbott/
LOCATION:Pablo’s Mexican Kitchen\, 9711 S Mason Rd\, Ste 130\, Richmond\, TX\, 77407
GEO:29.6623554;-95.735732
X-APPLE-STRUCTURED-LOCATION;VALUE=URI;X-ADDRESS=Pablo’s Mexican Kitchen 9711 S Mason Rd Ste 130 Richmond TX 77407;X-APPLE-RADIUS=500;X-TITLE=9711 S Mason Rd\, Ste 130:geo:-95.735732,29.6623554
END:VEVENT
END:VCALENDAR