BEGIN:VCALENDAR
VERSION:2.0
PRODID:-//Fort Bend County Republican Party - ECPv6.14.0//NONSGML v1.0//EN
CALSCALE:GREGORIAN
METHOD:PUBLISH
X-ORIGINAL-URL:https://fbcgop.org
X-WR-CALDESC:Events for Fort Bend County Republican Party
REFRESH-INTERVAL;VALUE=DURATION:PT1H
X-Robots-Tag:noindex
X-PUBLISHED-TTL:PT1H
BEGIN:VTIMEZONE
TZID:America/Chicago
BEGIN:DAYLIGHT
TZOFFSETFROM:-0600
TZOFFSETTO:-0500
TZNAME:CDT
DTSTART:20230312T080000
END:DAYLIGHT
BEGIN:STANDARD
TZOFFSETFROM:-0500
TZOFFSETTO:-0600
TZNAME:CST
DTSTART:20231105T070000
END:STANDARD
BEGIN:DAYLIGHT
TZOFFSETFROM:-0600
TZOFFSETTO:-0500
TZNAME:CDT
DTSTART:20240310T080000
END:DAYLIGHT
BEGIN:STANDARD
TZOFFSETFROM:-0500
TZOFFSETTO:-0600
TZNAME:CST
DTSTART:20241103T070000
END:STANDARD
END:VTIMEZONE
BEGIN:VEVENT
DTSTART;TZID=America/Chicago:20240408T180000
DTEND;TZID=America/Chicago:20240408T200000
DTSTAMP:20260422T135913
CREATED:20240310T184038Z
LAST-MODIFIED:20240311T124228Z
UID:10000195-1712599200-1712606400@fbcgop.org
SUMMARY:Needville Republican Women PAC
DESCRIPTION:Monthly Club Meeting
URL:https://fbcgop.org/event/needville-republican-women-pac-2/
LOCATION:Home of Beverly Stricker\, 14323 Buffalo\, Needville\, 77461\, United States
ATTACH;FMTTYPE=image/png:https://fbcgop.org/wp-content/uploads/2024/01/Screenshot-2023-12-19-091456.png
GEO:29.384649;-95.8316957
X-APPLE-STRUCTURED-LOCATION;VALUE=URI;X-ADDRESS=Home of Beverly Stricker 14323 Buffalo Needville 77461 United States;X-APPLE-RADIUS=500;X-TITLE=14323 Buffalo:geo:-95.8316957,29.384649
END:VEVENT
BEGIN:VEVENT
DTSTART;TZID=America/Chicago:20240212T180000
DTEND;TZID=America/Chicago:20240212T200000
DTSTAMP:20260422T135913
CREATED:20240130T142325Z
LAST-MODIFIED:20240130T142325Z
UID:10000184-1707760800-1707768000@fbcgop.org
SUMMARY:Needville Republican Women PAC
DESCRIPTION:Monthly Club Meeting
URL:https://fbcgop.org/event/needville-republican-women-pac/
LOCATION:Home of Beverly Stricker\, 14323 Buffalo\, Needville\, 77461\, United States
ATTACH;FMTTYPE=image/png:https://fbcgop.org/wp-content/uploads/2024/01/Screenshot-2023-12-19-091456.png
GEO:29.384649;-95.8316957
X-APPLE-STRUCTURED-LOCATION;VALUE=URI;X-ADDRESS=Home of Beverly Stricker 14323 Buffalo Needville 77461 United States;X-APPLE-RADIUS=500;X-TITLE=14323 Buffalo:geo:-95.8316957,29.384649
END:VEVENT
BEGIN:VEVENT
DTSTART;TZID=America/Chicago:20230918T180000
DTEND;TZID=America/Chicago:20230918T203000
DTSTAMP:20260422T135913
CREATED:20230910T213737Z
LAST-MODIFIED:20230910T213737Z
UID:10000145-1695060000-1695069000@fbcgop.org
SUMMARY:Needville Republican Women
DESCRIPTION:Meet/Greet: 6:00 pm\nMeeting:  6:30 pm \nContact:\nBeverly Stricker\nemail: bj_stricker@yahoo.com\nphone: 832 407-0161 \n 
URL:https://fbcgop.org/event/needville-republican-women-2/
LOCATION:3330 Terry Street\, 3330 Terry Street\, Needville\, United States
GEO:29.3951696;-95.8367902
X-APPLE-STRUCTURED-LOCATION;VALUE=URI;X-ADDRESS=3330 Terry Street 3330 Terry Street Needville United States;X-APPLE-RADIUS=500;X-TITLE=3330 Terry Street:geo:-95.8367902,29.3951696
END:VEVENT
BEGIN:VEVENT
DTSTART;TZID=America/Chicago:20230515T180000
DTEND;TZID=America/Chicago:20230515T200000
DTSTAMP:20260422T135913
CREATED:20230501T122300Z
LAST-MODIFIED:20230504T133619Z
UID:10000116-1684173600-1684180800@fbcgop.org
SUMMARY:Needville Republican Women
DESCRIPTION:New Location: 3330 Terry Street\, Needville\, TX \nMeet and greet begins at 6 pm\, with the meeting starting at 6:45 pm.
URL:https://fbcgop.org/event/needville-republican-women/
LOCATION:Community Clubhouse\, 3330 Terry Street\, Needville\, TX\, 77461
ATTACH;FMTTYPE=image/jpeg:https://fbcgop.org/wp-content/uploads/2022/10/Needville-RW.jpg
GEO:29.3951696;-95.8367902
X-APPLE-STRUCTURED-LOCATION;VALUE=URI;X-ADDRESS=Community Clubhouse 3330 Terry Street Needville TX 77461;X-APPLE-RADIUS=500;X-TITLE=3330 Terry Street:geo:-95.8367902,29.3951696
END:VEVENT
END:VCALENDAR