BEGIN:VCALENDAR
VERSION:2.0
PRODID:-//Fort Bend County Republican Party - ECPv6.14.0//NONSGML v1.0//EN
CALSCALE:GREGORIAN
METHOD:PUBLISH
X-ORIGINAL-URL:https://fbcgop.org
X-WR-CALDESC:Events for Fort Bend County Republican Party
REFRESH-INTERVAL;VALUE=DURATION:PT1H
X-Robots-Tag:noindex
X-PUBLISHED-TTL:PT1H
BEGIN:VTIMEZONE
TZID:America/Chicago
BEGIN:DAYLIGHT
TZOFFSETFROM:-0600
TZOFFSETTO:-0500
TZNAME:CDT
DTSTART:20220313T080000
END:DAYLIGHT
BEGIN:STANDARD
TZOFFSETFROM:-0500
TZOFFSETTO:-0600
TZNAME:CST
DTSTART:20221106T070000
END:STANDARD
BEGIN:DAYLIGHT
TZOFFSETFROM:-0600
TZOFFSETTO:-0500
TZNAME:CDT
DTSTART:20230312T080000
END:DAYLIGHT
BEGIN:STANDARD
TZOFFSETFROM:-0500
TZOFFSETTO:-0600
TZNAME:CST
DTSTART:20231105T070000
END:STANDARD
BEGIN:DAYLIGHT
TZOFFSETFROM:-0600
TZOFFSETTO:-0500
TZNAME:CDT
DTSTART:20240310T080000
END:DAYLIGHT
BEGIN:STANDARD
TZOFFSETFROM:-0500
TZOFFSETTO:-0600
TZNAME:CST
DTSTART:20241103T070000
END:STANDARD
END:VTIMEZONE
BEGIN:VEVENT
DTSTART;TZID=America/Chicago:20240827T093000
DTEND;TZID=America/Chicago:20240827T130000
DTSTAMP:20260422T055813
CREATED:20240803T151427Z
LAST-MODIFIED:20240823T141447Z
UID:10000211-1724751000-1724763600@fbcgop.org
SUMMARY:Greater Houston Council of Federated Republican Women
DESCRIPTION:Get Out the Vote Rally \nMeet all the candidates from counties around Greater Houston area. Precinct chairs\, RW clubs\, Republican groups and guests are invited to meet our candidates\, have lunch and take home yard signs and materials. Keynote speakers are Railroad Commissioner Christi Craddick and Texas Supreme court Justice Jimmy Blacklock\, among other great candidates and County Chairmen. \n  \nRSVP at our website
URL:https://fbcgop.org/event/greater-houston-council-if-federated-republican-women/
LOCATION:Trini Mendenhall Community Center\, 1414 Wirt Road\, Houston\, TX\, 77055
ATTACH;FMTTYPE=image/jpeg:https://fbcgop.org/wp-content/uploads/2024/08/Greater-Houston-Council-FRW.jpg
ORGANIZER;CN="Greater Houston Council-Federated Republican Women":MAILTO:Meet all the candidates from counties around Greater Houston area. Precinct chairs, RW clubs, Republican groups and guests are invited to meet our candidates, have lunch and take home yard signs and materials. Keynote speakers are Railroad Commissioner Christi Craddick and Texas Supreme court Justice Jimmy Blacklock, among other great candidates and County Chairmen. RSVP on our website at ghcfrwpac.org
GEO:29.7957811;-95.4842532
X-APPLE-STRUCTURED-LOCATION;VALUE=URI;X-ADDRESS=Trini Mendenhall Community Center 1414 Wirt Road Houston TX 77055;X-APPLE-RADIUS=500;X-TITLE=1414 Wirt Road:geo:-95.4842532,29.7957811
END:VEVENT
BEGIN:VEVENT
DTSTART;TZID=America/Chicago:20220823T043000
DTEND;TZID=America/Chicago:20220823T073000
DTSTAMP:20260422T055813
CREATED:20220723T122001Z
LAST-MODIFIED:20220815T122030Z
UID:10000075-1661229000-1661239800@fbcgop.org
SUMMARY:Republican Grand Slam 2022
DESCRIPTION: 
URL:https://fbcgop.org/event/republican-grand-slam-2022/
LOCATION:Trini Mendenhall Community Center\, 1414 Wirt Road\, Houston\, TX\, 77055
ATTACH;FMTTYPE=image/png:https://fbcgop.org/wp-content/uploads/2022/07/greater-houston-council-of-federated-republican-women-club.png
ORGANIZER;CN="Greater Houston Council-Federated Republican Women":MAILTO:Meet all the candidates from counties around Greater Houston area. Precinct chairs, RW clubs, Republican groups and guests are invited to meet our candidates, have lunch and take home yard signs and materials. Keynote speakers are Railroad Commissioner Christi Craddick and Texas Supreme court Justice Jimmy Blacklock, among other great candidates and County Chairmen. RSVP on our website at ghcfrwpac.org
GEO:29.7957811;-95.4842532
X-APPLE-STRUCTURED-LOCATION;VALUE=URI;X-ADDRESS=Trini Mendenhall Community Center 1414 Wirt Road Houston TX 77055;X-APPLE-RADIUS=500;X-TITLE=1414 Wirt Road:geo:-95.4842532,29.7957811
END:VEVENT
END:VCALENDAR