BEGIN:VCALENDAR
VERSION:2.0
PRODID:-//Fort Bend County Republican Party - ECPv6.14.0//NONSGML v1.0//EN
CALSCALE:GREGORIAN
METHOD:PUBLISH
X-WR-CALNAME:Fort Bend County Republican Party
X-ORIGINAL-URL:https://fbcgop.org
X-WR-CALDESC:Events for Fort Bend County Republican Party
REFRESH-INTERVAL;VALUE=DURATION:PT1H
X-Robots-Tag:noindex
X-PUBLISHED-TTL:PT1H
BEGIN:VTIMEZONE
TZID:America/Chicago
BEGIN:DAYLIGHT
TZOFFSETFROM:-0600
TZOFFSETTO:-0500
TZNAME:CDT
DTSTART:20230312T080000
END:DAYLIGHT
BEGIN:STANDARD
TZOFFSETFROM:-0500
TZOFFSETTO:-0600
TZNAME:CST
DTSTART:20231105T070000
END:STANDARD
END:VTIMEZONE
BEGIN:VEVENT
DTSTART;TZID=America/Chicago:20230302T113000
DTEND;TZID=America/Chicago:20230302T133000
DTSTAMP:20260422T054700
CREATED:20230209T143510Z
LAST-MODIFIED:20230209T143510Z
UID:10000097-1677756600-1677763800@fbcgop.org
SUMMARY:Republican Women's Club of Katy
DESCRIPTION:March Luncheon:\nMedia and Politics\,\nfeaturing Sam Malone.\nThe prejudice is obvious.  Time for Conservatives to Fight Back. \nRegister Now \n  \n 
URL:https://fbcgop.org/event/republican-womens-club-of-katy/
LOCATION:Palacio Maria\, 21728 Highland Knolls\, Katy\, TX\, 77450
ATTACH;FMTTYPE=image/jpeg:https://fbcgop.org/wp-content/uploads/2022/10/RWCK-logo.jpg
GEO:29.760394;-95.74899
X-APPLE-STRUCTURED-LOCATION;VALUE=URI;X-ADDRESS=Palacio Maria 21728 Highland Knolls Katy TX 77450;X-APPLE-RADIUS=500;X-TITLE=21728 Highland Knolls:geo:-95.74899,29.760394
END:VEVENT
END:VCALENDAR