BEGIN:VCALENDAR
VERSION:2.0
PRODID:-//Fort Bend County Republican Party - ECPv6.14.0//NONSGML v1.0//EN
CALSCALE:GREGORIAN
METHOD:PUBLISH
X-WR-CALNAME:Fort Bend County Republican Party
X-ORIGINAL-URL:https://fbcgop.org
X-WR-CALDESC:Events for Fort Bend County Republican Party
REFRESH-INTERVAL;VALUE=DURATION:PT1H
X-Robots-Tag:noindex
X-PUBLISHED-TTL:PT1H
BEGIN:VTIMEZONE
TZID:America/Chicago
BEGIN:DAYLIGHT
TZOFFSETFROM:-0600
TZOFFSETTO:-0500
TZNAME:CDT
DTSTART:20230312T080000
END:DAYLIGHT
BEGIN:STANDARD
TZOFFSETFROM:-0500
TZOFFSETTO:-0600
TZNAME:CST
DTSTART:20231105T070000
END:STANDARD
END:VTIMEZONE
BEGIN:VEVENT
DTSTART;TZID=America/Chicago:20230202T110000
DTEND;TZID=America/Chicago:20230202T130000
DTSTAMP:20260422T070149
CREATED:20221222T220625Z
LAST-MODIFIED:20230104T144622Z
UID:10000072-1675335600-1675342800@fbcgop.org
SUMMARY:RWCK February Luncheon
DESCRIPTION:The February meeting of the Republican Women’s Club of Katy will feature special guests Cindy Siegel and Bobby Eberle. The meeting will be held at Palacio Maria in Katy on Thursday\, February 2. \nRSVP NOW!
URL:https://fbcgop.org/event/rwck-february-luncheon/
LOCATION:Palacio Maria\, 21728 Highland Knolls\, Katy\, TX\, 77450
ATTACH;FMTTYPE=image/jpeg:https://fbcgop.org/wp-content/uploads/2022/10/RWCK-logo.jpg
GEO:29.760394;-95.74899
X-APPLE-STRUCTURED-LOCATION;VALUE=URI;X-ADDRESS=Palacio Maria 21728 Highland Knolls Katy TX 77450;X-APPLE-RADIUS=500;X-TITLE=21728 Highland Knolls:geo:-95.74899,29.760394
END:VEVENT
END:VCALENDAR