BEGIN:VCALENDAR
VERSION:2.0
PRODID:-//Fort Bend County Republican Party - ECPv6.14.0//NONSGML v1.0//EN
CALSCALE:GREGORIAN
METHOD:PUBLISH
X-WR-CALNAME:Fort Bend County Republican Party
X-ORIGINAL-URL:https://fbcgop.org
X-WR-CALDESC:Events for Fort Bend County Republican Party
REFRESH-INTERVAL;VALUE=DURATION:PT1H
X-Robots-Tag:noindex
X-PUBLISHED-TTL:PT1H
BEGIN:VTIMEZONE
TZID:America/Chicago
BEGIN:DAYLIGHT
TZOFFSETFROM:-0600
TZOFFSETTO:-0500
TZNAME:CDT
DTSTART:20230312T080000
END:DAYLIGHT
BEGIN:STANDARD
TZOFFSETFROM:-0500
TZOFFSETTO:-0600
TZNAME:CST
DTSTART:20231105T070000
END:STANDARD
END:VTIMEZONE
BEGIN:VEVENT
DTSTART;TZID=America/Chicago:20230125T180000
DTEND;TZID=America/Chicago:20230125T193000
DTSTAMP:20260422T083212
CREATED:20221222T220320Z
LAST-MODIFIED:20221222T220439Z
UID:10000074-1674669600-1674675000@fbcgop.org
SUMMARY:Sweetgrass Republican Club - January Meeting
DESCRIPTION:Please come out to the January meeting which will feature a wrap-up and review of the 2022 elections.  The meeting will be held at the Sweetgrass Clubhouse in Richmond on Wednesday\, January 25.
URL:https://fbcgop.org/event/sweetgrass-republican-club-january-meeting/
LOCATION:Sweetgrass Clubhouse\, 707 Del Webb Blvd.\, Richmond\, TX\, 77469
GEO:29.5585299;-95.7475087
X-APPLE-STRUCTURED-LOCATION;VALUE=URI;X-ADDRESS=Sweetgrass Clubhouse 707 Del Webb Blvd. Richmond TX 77469;X-APPLE-RADIUS=500;X-TITLE=707 Del Webb Blvd.:geo:-95.7475087,29.5585299
END:VEVENT
END:VCALENDAR