BEGIN:VCALENDAR
VERSION:2.0
PRODID:-//Fort Bend County Republican Party - ECPv6.14.0//NONSGML v1.0//EN
CALSCALE:GREGORIAN
METHOD:PUBLISH
X-WR-CALNAME:Fort Bend County Republican Party
X-ORIGINAL-URL:https://fbcgop.org
X-WR-CALDESC:Events for Fort Bend County Republican Party
REFRESH-INTERVAL;VALUE=DURATION:PT1H
X-Robots-Tag:noindex
X-PUBLISHED-TTL:PT1H
BEGIN:VTIMEZONE
TZID:America/Chicago
BEGIN:DAYLIGHT
TZOFFSETFROM:-0600
TZOFFSETTO:-0500
TZNAME:CDT
DTSTART:20220313T080000
END:DAYLIGHT
BEGIN:STANDARD
TZOFFSETFROM:-0500
TZOFFSETTO:-0600
TZNAME:CST
DTSTART:20221106T070000
END:STANDARD
END:VTIMEZONE
BEGIN:VEVENT
DTSTART;TZID=America/Chicago:20221201T113000
DTEND;TZID=America/Chicago:20221201T133000
DTSTAMP:20260424T101427
CREATED:20221118T141711Z
LAST-MODIFIED:20221118T141711Z
UID:10000091-1669894200-1669901400@fbcgop.org
SUMMARY:RWCK December Luncheon (Christmas)
DESCRIPTION:Let’s kickoff the holiday season with a wonderful bunch of ladies\, toys for kids\, singing with a beautiful choir\, and a COOKIE SWAP!! \nJUST BRING A COUPLE OF DOZEN OF YOUR FAVORITE CHRISTMAS TREATS TO SHARE WITH THE CLUB. YOU WILL BE ABLE TO TAKE SOME HOME TO SHARE WITH THE FAMILY (or eat them yourself !!! \nAlso\, if you chose a child\, don’t forget to bring your unwrapped gift (can be in a garbage bag) to the meeting. You can also deliver them to the Merrell Center on Sunday\, December 4 from 11:00 to 5:00. \nRegister Now
URL:https://fbcgop.org/event/rwck-december-luncheon-christmas/
LOCATION:Palacio Maria\, 21728 Highland Knolls\, Katy\, TX\, 77450
ATTACH;FMTTYPE=image/jpeg:https://fbcgop.org/wp-content/uploads/2022/10/RWCK-logo.jpg
GEO:29.760394;-95.74899
X-APPLE-STRUCTURED-LOCATION;VALUE=URI;X-ADDRESS=Palacio Maria 21728 Highland Knolls Katy TX 77450;X-APPLE-RADIUS=500;X-TITLE=21728 Highland Knolls:geo:-95.74899,29.760394
END:VEVENT
END:VCALENDAR