BEGIN:VCALENDAR
VERSION:2.0
PRODID:-//Fort Bend County Republican Party - ECPv6.14.0//NONSGML v1.0//EN
CALSCALE:GREGORIAN
METHOD:PUBLISH
X-ORIGINAL-URL:https://fbcgop.org
X-WR-CALDESC:Events for Fort Bend County Republican Party
REFRESH-INTERVAL;VALUE=DURATION:PT1H
X-Robots-Tag:noindex
X-PUBLISHED-TTL:PT1H
BEGIN:VTIMEZONE
TZID:America/Chicago
BEGIN:DAYLIGHT
TZOFFSETFROM:-0600
TZOFFSETTO:-0500
TZNAME:CDT
DTSTART:20220313T080000
END:DAYLIGHT
BEGIN:STANDARD
TZOFFSETFROM:-0500
TZOFFSETTO:-0600
TZNAME:CST
DTSTART:20221106T070000
END:STANDARD
END:VTIMEZONE
BEGIN:VEVENT
DTSTART;TZID=America/Chicago:20220906T173000
DTEND;TZID=America/Chicago:20220906T193000
DTSTAMP:20260424T163104
CREATED:20220905T155231Z
LAST-MODIFIED:20220905T155357Z
UID:10000008-1662485400-1662492600@fbcgop.org
SUMMARY:Precinct 2 Sign Distribution with Nehls and Wilson
DESCRIPTION:Pick up your yard signs here! \nCounty Judge candidate Trever Nehls and County Commissioner\, Precinct 2 candidate Melissa Willson will be distributing yard signs. \nCome out and show your support!
URL:https://fbcgop.org/event/precinct-2-sign-distribution-with-nehls-and-wilson/
LOCATION:Target – Missouri City\, 6000 SH-6 S\, Missouri City\, TX\, 77459
ATTACH;FMTTYPE=image/jpeg:https://fbcgop.org/wp-content/uploads/2022/09/1233583958297624039.jpg
GEO:29.5655242;-95.5681272
X-APPLE-STRUCTURED-LOCATION;VALUE=URI;X-ADDRESS=Target – Missouri City 6000 SH-6 S Missouri City TX 77459;X-APPLE-RADIUS=500;X-TITLE=6000 SH-6 S:geo:-95.5681272,29.5655242
END:VEVENT
BEGIN:VEVENT
DTSTART;TZID=America/Chicago:20220907T130000
DTEND;TZID=America/Chicago:20220907T143000
DTSTAMP:20260424T163104
CREATED:20220813T164734Z
LAST-MODIFIED:20220903T123503Z
UID:10000038-1662555600-1662561000@fbcgop.org
SUMMARY:Terry Adams / Chad Bridges Meet and Greet Fundraiser
DESCRIPTION:Please join us for a meet and greet fundraiser for: \nTerry Adams\nfor Chief Justice\, 1st Court of Appeals \nChad Bridges\nfor Judge\, 458th District Court \nSpecial Guest: Congressman Troy Nehls \nSuggested Contribution Levels\n(No donation required to attend)\nPlatinum – $500 * Gold – $250 * Silver – $100 * Bronze – $50 \nTerry Adams Campaign\nAdamsForChiefJustice.com \nBridges Campaign\nChadForJudge.com
URL:https://fbcgop.org/event/chad-bridges-for-district-judge-meet-and-greet-fundraiser/
LOCATION:Lupe Tortilla\, 15801 Southwest Fwy\, Sugar Land\, TX\, 77478
ATTACH;FMTTYPE=image/jpeg:https://fbcgop.org/wp-content/uploads/2022/08/adams_logo.jpg
GEO:29.5991316;-95.6202913
X-APPLE-STRUCTURED-LOCATION;VALUE=URI;X-ADDRESS=Lupe Tortilla 15801 Southwest Fwy Sugar Land TX 77478;X-APPLE-RADIUS=500;X-TITLE=15801 Southwest Fwy:geo:-95.6202913,29.5991316
END:VEVENT
BEGIN:VEVENT
DTSTART;TZID=America/Chicago:20220907T170000
DTEND;TZID=America/Chicago:20220907T200000
DTSTAMP:20260424T163104
CREATED:20220905T153748Z
LAST-MODIFIED:20220905T153841Z
UID:10000007-1662570000-1662580800@fbcgop.org
SUMMARY:Dan Mathews Meet and Greet
DESCRIPTION:Come out and meet State Representative candidate Dan Mathews. \nMeet and Greet fundraising reception. \nSee you there!
URL:https://fbcgop.org/event/dan-mathews-meet-and-greet/
LOCATION:Safari Texas Ranch\, 11627 FM 1464\, Richmond\, TX\, 77407
ATTACH;FMTTYPE=image/jpeg:https://fbcgop.org/wp-content/uploads/2022/09/299333325_788764352540058_2694725758905937334_n.jpg
ORGANIZER;CN="Dan Mathews Campaign":MAILTO:events4dan@gmail.com
GEO:29.6461381;-95.6765086
X-APPLE-STRUCTURED-LOCATION;VALUE=URI;X-ADDRESS=Safari Texas Ranch 11627 FM 1464 Richmond TX 77407;X-APPLE-RADIUS=500;X-TITLE=11627 FM 1464:geo:-95.6765086,29.6461381
END:VEVENT
BEGIN:VEVENT
DTSTART;TZID=America/Chicago:20220908T063000
DTEND;TZID=America/Chicago:20220908T083000
DTSTAMP:20260424T163104
CREATED:20220705T192748Z
LAST-MODIFIED:20220902T143342Z
UID:10000047-1662618600-1662625800@fbcgop.org
SUMMARY:Republican Women's Club of Katy - September General Meeting
DESCRIPTION:Time Correction!!  11:30am – 1:30pm\nRegistration required (Almost Full!!) – Register Now\nPayment in Full in Advance or at Event\nActive Members: $25.00\nNon-Member: $28.00\nPay at the Door: $35.00 \n  \nView in your browser
URL:https://fbcgop.org/event/republican-womens-club-of-katy-september-general-meeting/
LOCATION:Palacio Maria\, 21728 Highland Knolls\, Katy\, TX\, 77450
ATTACH;FMTTYPE=image/jpeg:https://fbcgop.org/wp-content/uploads/2022/07/RWCK.jpg
GEO:29.760394;-95.74899
X-APPLE-STRUCTURED-LOCATION;VALUE=URI;X-ADDRESS=Palacio Maria 21728 Highland Knolls Katy TX 77450;X-APPLE-RADIUS=500;X-TITLE=21728 Highland Knolls:geo:-95.74899,29.760394
END:VEVENT
BEGIN:VEVENT
DTSTART;TZID=America/Chicago:20220908T173000
DTEND;TZID=America/Chicago:20220908T190000
DTSTAMP:20260424T163104
CREATED:20220826T105159Z
LAST-MODIFIED:20220826T110445Z
UID:10000002-1662658200-1662663600@fbcgop.org
SUMMARY:Fort Bend County Young Republicans
DESCRIPTION:Shooting with Chris Collins\nChristian Collins is the founder of the Texas Youth Summit\, a non-profit that hosts some of the most influential political and religious leaders in the country dedicated to educating high school and college-age youth with Judeo-Christian and Conservative values. Christian is an experienced consultant specializing in public relations and strategic communication for political campaigns\, non-profit’s\, and businesses. \nhttps://www.christiancollins.org/ \nG2G rates: https://www.g2grange.com/rates \nRSVP
URL:https://fbcgop.org/event/fort-bend-county-young-republicans/
LOCATION:G2G Family Shooting & Archery Range\, 25635 Southwest Fwy\, Rosenburg\, TX\, 77471
ATTACH;FMTTYPE=image/jpeg:https://fbcgop.org/wp-content/uploads/2022/08/FBCYR.jpg
GEO:29.5362462;-95.7674072
X-APPLE-STRUCTURED-LOCATION;VALUE=URI;X-ADDRESS=G2G Family Shooting & Archery Range 25635 Southwest Fwy Rosenburg TX 77471;X-APPLE-RADIUS=500;X-TITLE=25635 Southwest Fwy:geo:-95.7674072,29.5362462
END:VEVENT
BEGIN:VEVENT
DTSTART;TZID=America/Chicago:20220910T140000
DTEND;TZID=America/Chicago:20220910T170000
DTSTAMP:20260424T163104
CREATED:20220823T202015Z
LAST-MODIFIED:20220823T202015Z
UID:10000034-1662818400-1662829200@fbcgop.org
SUMMARY:Jacey Jetton Campaign Kickoff & Fundraiser
DESCRIPTION:We’re excited to gather with y’all in the Safari Texas Lodge over some BBQ\, drinks\, snow cones\, and great live music. \n  \n\nTickets to the event are $25\, and include food and drinks.\nPurchase Individual Tickets here \n\nSponsorships Available!\nGold $5\,000  |  Silver $2\,500  |  Bronze $1\,000\nFriend $500  |  Attendee Tickets $25 \nFor sponsorship information\, please contact: alex@jaceyjetton.com
URL:https://fbcgop.org/event/jacey-jetton-campaign-kickoff-fundraiser/
LOCATION:Safari Texas Ranch\, 11627 FM 1464\, Richmond\, TX\, 77407
ATTACH;FMTTYPE=image/png:https://fbcgop.org/wp-content/uploads/2022/08/Jacey.png
GEO:29.6461381;-95.6765086
X-APPLE-STRUCTURED-LOCATION;VALUE=URI;X-ADDRESS=Safari Texas Ranch 11627 FM 1464 Richmond TX 77407;X-APPLE-RADIUS=500;X-TITLE=11627 FM 1464:geo:-95.6765086,29.6461381
END:VEVENT
BEGIN:VEVENT
DTSTART;TZID=America/Chicago:20220911T130000
DTEND;TZID=America/Chicago:20220911T160000
DTSTAMP:20260424T163104
CREATED:20220910T220830Z
LAST-MODIFIED:20220910T220830Z
UID:10000083-1662901200-1662912000@fbcgop.org
SUMMARY:Young Conservatives of Texas - Remembering 9/11 Program
DESCRIPTION:Young Conservatives of Texas @Univ of Houston: Remembering 9/11 Program\nSeptember 11\, 2022\n1:00 pm – 4:00 pm \nUniversity of Houston Hilton – Conrad N Ballroom (2nd floor)\n4450 University Dr. Houston\, TX\, 77204 \nEvent is FREE\, but you MUST REGISTER: bit.ly/911YCTUH\n• Available parking at the Hilton’s underground parking.\n• Take elevator to the 2nd floor to the Ballroom.\n• There will be check-in tables to enter the event.\n• UH-YCT students will guide you to your seats.\n• Seating will be on a FIRST COME\, FIRST SERVED basis\, so please arrive early. \n1:00-2:00 PM — Meet & Greet\nMeet these sponsors before the program begins.\n(If you would like to sponsor a table\, contact us at: uh@yct.org)\n• Young Conservatives of Texas at the University of Houston\n• Candidate for Congressional District 7: Johnny Teague\n• Candidate for Congressional District 8: Morgan Luttrell\n• Candidate for Texas Senate\, District 4: Brandon Creighton\n• Candidate for Texas Senate\, District 23: Mayes Middleton\n• Houston City Councilman\, At-Large Position 1: Mike Knox\n• Texas Right to Life\n• Houston Young Republicans\n• Intercollegiate Studies Institute\n• Run Gen Z\n• Americans for Prosperity \n2:00-4:00 PM — Remembering 9-11 Program\n• Opening Prayer by: Pastor Johnny Teague\n• Proclamation on behalf on Gov. Abbott by YCT Founder & Former Deputy Asst. to President Trump: Steve Munisteri\n• Keynote address by: Honorable Congressman Louie Gohmert\n• Remembrances from:\n— Honorable Texas Senator Brandon Creighton\n— Former Navy Seal Morgan Luttrell\n— Honorable Congressman Kevin Brady \n4:00 PM — Flag Planting Ceremony\n• Walk to the World Trade Center Memorial at the Student Center\n(Across the street from the UH Hilton)\n• Planting of 3\,000 Flags- represent each person who perished on 9-11-2001\n• Each attendee will be given flags to plant at the memorial. \nThank you from the YCT Executive Team\n• Favian Rodriguez\, UH -YCT Chairman\n• Dr. Nanda\, UH -YCT Faculty Advisor \nQuestions? Please contact us: UH@YCT.org
URL:https://fbcgop.org/event/young-conservatives-of-texas-remembering-9-11-program/
LOCATION:University of Houston Hilton – Conrad N Ballroom (2nd floor)\, 4450 University Drive\, Houston\, TX\, 77204
ATTACH;FMTTYPE=image/png:https://fbcgop.org/wp-content/uploads/2022/09/Screenshot-2022-09-10-180211.png
ORGANIZER;CN="Young Conservatives of Texas @Univ of Houston":MAILTO:UH@YCT.org
GEO:29.718824;-95.3410534
X-APPLE-STRUCTURED-LOCATION;VALUE=URI;X-ADDRESS=University of Houston Hilton – Conrad N Ballroom (2nd floor) 4450 University Drive Houston TX 77204;X-APPLE-RADIUS=500;X-TITLE=4450 University Drive:geo:-95.3410534,29.718824
END:VEVENT
END:VCALENDAR