BEGIN:VCALENDAR
VERSION:2.0
PRODID:-//Fort Bend County Republican Party - ECPv6.14.0//NONSGML v1.0//EN
CALSCALE:GREGORIAN
METHOD:PUBLISH
X-WR-CALNAME:Fort Bend County Republican Party
X-ORIGINAL-URL:https://fbcgop.org
X-WR-CALDESC:Events for Fort Bend County Republican Party
REFRESH-INTERVAL;VALUE=DURATION:PT1H
X-Robots-Tag:noindex
X-PUBLISHED-TTL:PT1H
BEGIN:VTIMEZONE
TZID:America/Chicago
BEGIN:DAYLIGHT
TZOFFSETFROM:-0600
TZOFFSETTO:-0500
TZNAME:CDT
DTSTART:20220313T080000
END:DAYLIGHT
BEGIN:STANDARD
TZOFFSETFROM:-0500
TZOFFSETTO:-0600
TZNAME:CST
DTSTART:20221106T070000
END:STANDARD
END:VTIMEZONE
BEGIN:VEVENT
DTSTART;TZID=America/Chicago:20220810T130000
DTEND;TZID=America/Chicago:20220810T130000
DTSTAMP:20260424T180822
CREATED:20220703T213346Z
LAST-MODIFIED:20220808T174441Z
UID:10000042-1660136400-1660136400@fbcgop.org
SUMMARY:Sweetgrass Republican Club - Here Comes the Judge!
DESCRIPTION:Trever Nehls for FBC JudgePLUS FB County and State District JudgesMorales-FBC CCL 1McMeans-FBC CCL 2Dornberg-FBC CCL 3Kovach-FBC CCL 4Hrbacek-FBC CCL 6Krenek-Dist Court 240Rogsers-Dist Court 268Amatys-Dist Court 328Bridges-Dist Court 458Elliot-District Clerk
URL:https://fbcgop.org/event/sweetwater-republican-club-here-comes-the-judge/
LOCATION:TX
END:VEVENT
BEGIN:VEVENT
DTSTART;TZID=America/Chicago:20220813T030000
DTEND;TZID=America/Chicago:20220813T030000
DTSTAMP:20260424T180822
CREATED:20220809T163603Z
LAST-MODIFIED:20220812T231019Z
UID:10000079-1660359600-1660359600@fbcgop.org
SUMMARY:Block Walk - Rosenberg - Ray Aguilar
DESCRIPTION:Please RSVP to Ray@aguilarcampaign.com or call/text 832-847-0774
URL:https://fbcgop.org/event/block-walk-rosenberg-ray-aguilar/
LOCATION:PaPa Mex\, 1008 Herndon Drive\, Rosenberg\, TX\, 77471
ORGANIZER;CN="Ray Aguilar Campaign":MAILTO:Ray@aguilarcampaign.com
GEO:29.5650495;-95.7819803
X-APPLE-STRUCTURED-LOCATION;VALUE=URI;X-ADDRESS=PaPa Mex 1008 Herndon Drive Rosenberg TX 77471;X-APPLE-RADIUS=500;X-TITLE=1008 Herndon Drive:geo:-95.7819803,29.5650495
END:VEVENT
BEGIN:VEVENT
DTSTART;TZID=America/Chicago:20220813T133000
DTEND;TZID=America/Chicago:20220813T153000
DTSTAMP:20260424T180822
CREATED:20220810T200850Z
LAST-MODIFIED:20220810T202025Z
UID:10000076-1660397400-1660404600@fbcgop.org
SUMMARY:Bill Rickert - Meet and Greet
DESCRIPTION:Fort Bend County Treasurer\nwww.rickert.com\nemail: treasurer@rickert.com\nphone: 713-377-1149 \nHOSTED BY\nDREW & DANIELLE MCCALL \nRSVP EVENTBRITE: https://www.eventbrite.com/e/386149311987 \n   \n  \n  \n 
URL:https://fbcgop.org/event/bill-rickert-meet-and-greet/
LOCATION:Fulbrook on Fulshear Creek Lodge\, 5005 Lodge Lake Drive\, Fulshear\, TX\, 77441
GEO:29.6798308;-95.8945475
X-APPLE-STRUCTURED-LOCATION;VALUE=URI;X-ADDRESS=Fulbrook on Fulshear Creek Lodge 5005 Lodge Lake Drive Fulshear TX 77441;X-APPLE-RADIUS=500;X-TITLE=5005 Lodge Lake Drive:geo:-95.8945475,29.6798308
END:VEVENT
END:VCALENDAR