BEGIN:VCALENDAR
VERSION:2.0
PRODID:-//Fort Bend County Republican Party - ECPv6.14.0//NONSGML v1.0//EN
CALSCALE:GREGORIAN
METHOD:PUBLISH
X-WR-CALNAME:Fort Bend County Republican Party
X-ORIGINAL-URL:https://fbcgop.org
X-WR-CALDESC:Events for Fort Bend County Republican Party
REFRESH-INTERVAL;VALUE=DURATION:PT1H
X-Robots-Tag:noindex
X-PUBLISHED-TTL:PT1H
BEGIN:VTIMEZONE
TZID:America/Chicago
BEGIN:DAYLIGHT
TZOFFSETFROM:-0600
TZOFFSETTO:-0500
TZNAME:CDT
DTSTART:20220313T080000
END:DAYLIGHT
BEGIN:STANDARD
TZOFFSETFROM:-0500
TZOFFSETTO:-0600
TZNAME:CST
DTSTART:20221106T070000
END:STANDARD
END:VTIMEZONE
BEGIN:VEVENT
DTSTART;VALUE=DATE:20221107
DTEND;VALUE=DATE:20221109
DTSTAMP:20260422T115437
CREATED:20220812T175301Z
LAST-MODIFIED:20220812T175322Z
UID:10000036-1667844000-1667930399@fbcgop.org
SUMMARY:Election Day
DESCRIPTION:November 8 is Election Day. \nGet Out and Vote!
URL:https://fbcgop.org/event/election-day/
LOCATION:TX
END:VEVENT
BEGIN:VEVENT
DTSTART;TZID=America/Chicago:20221103T113000
DTEND;TZID=America/Chicago:20221103T130000
DTSTAMP:20260422T115437
CREATED:20221018T214906Z
LAST-MODIFIED:20221018T214906Z
UID:10000013-1667475000-1667480400@fbcgop.org
SUMMARY:RWCK - November Luncheon
DESCRIPTION:ELECTION UPDATES\nVincent Morales\nFB County Commissioner\, Precinct 1 \nAssessing the early voting response and taking a hard look at the future plans for our communities. \n$25 members\n$28 non-members\n$35 at the door \nRSVP ONLINE\n  \n  \n 
URL:https://fbcgop.org/event/rwck-november-luncheon/
LOCATION:Palacio Maria\, 21728 Highland Knolls\, Katy\, TX\, 77450
ATTACH;FMTTYPE=image/jpeg:https://fbcgop.org/wp-content/uploads/2022/10/RWCK-logo.jpg
GEO:29.760394;-95.74899
X-APPLE-STRUCTURED-LOCATION;VALUE=URI;X-ADDRESS=Palacio Maria 21728 Highland Knolls Katy TX 77450;X-APPLE-RADIUS=500;X-TITLE=21728 Highland Knolls:geo:-95.74899,29.760394
END:VEVENT
BEGIN:VEVENT
DTSTART;TZID=America/Chicago:20221102T160000
DTEND;TZID=America/Chicago:20221102T170000
DTSTAMP:20260422T115437
CREATED:20220929T180515Z
LAST-MODIFIED:20220929T181219Z
UID:10000026-1667404800-1667408400@fbcgop.org
SUMMARY:INDO-AMERICAN CONSERVATIVES OF TEXAS - Freedom Radio
DESCRIPTION:I-ACT for FREEDOM RADIO\nFM-98.7 \nCALL IN NUMBER\n281-277-6874 \nEVERY WEDNESDAY\nFROM 4PM TO 5PM. \nContact RAMESH CHERIVIRALA\nfor information\nemail: RCHERIVIRALA@GMAIL.COM\nphone: 713-875-4336
URL:https://fbcgop.org/event/indo-american-conservatives-of-texas/2022-11-02/
LOCATION:FM 98.7
ATTACH;FMTTYPE=image/jpeg:https://fbcgop.org/wp-content/uploads/2022/09/IACT.jpg
ORGANIZER;CN="Indo-American Conservatives of Texas":MAILTO:iactx1@gmail.com
END:VEVENT
BEGIN:VEVENT
DTSTART;TZID=America/Chicago:20221026T160000
DTEND;TZID=America/Chicago:20221026T170000
DTSTAMP:20260422T115437
CREATED:20220929T180515Z
LAST-MODIFIED:20220929T181219Z
UID:10000025-1666800000-1666803600@fbcgop.org
SUMMARY:INDO-AMERICAN CONSERVATIVES OF TEXAS - Freedom Radio
DESCRIPTION:I-ACT for FREEDOM RADIO\nFM-98.7 \nCALL IN NUMBER\n281-277-6874 \nEVERY WEDNESDAY\nFROM 4PM TO 5PM. \nContact RAMESH CHERIVIRALA\nfor information\nemail: RCHERIVIRALA@GMAIL.COM\nphone: 713-875-4336
URL:https://fbcgop.org/event/indo-american-conservatives-of-texas/2022-10-26/
LOCATION:FM 98.7
ATTACH;FMTTYPE=image/jpeg:https://fbcgop.org/wp-content/uploads/2022/09/IACT.jpg
ORGANIZER;CN="Indo-American Conservatives of Texas":MAILTO:iactx1@gmail.com
END:VEVENT
BEGIN:VEVENT
DTSTART;TZID=America/Chicago:20221026T063000
DTEND;TZID=America/Chicago:20221026T080000
DTSTAMP:20260422T115437
CREATED:20220819T171021Z
LAST-MODIFIED:20220820T185207Z
UID:10000069-1666765800-1666771200@fbcgop.org
SUMMARY:Fort Bend Republican Women's Club
DESCRIPTION:October Membership Meeting\nOctober 26\, 2022\nLois Kolkhorst\nTexas Senator\nDistrict 18
URL:https://fbcgop.org/event/fort-bend-republican-womens-club/
LOCATION:Hilton Garden Inn\, 722 Bonaventure Way\, Sugar Land\, TX\, 77479
ORGANIZER;CN="Fort Bend Republican Women's Club":MAILTO:mtmoffett@outlook.com
GEO:29.6060186;-95.6431251
X-APPLE-STRUCTURED-LOCATION;VALUE=URI;X-ADDRESS=Hilton Garden Inn 722 Bonaventure Way Sugar Land TX 77479;X-APPLE-RADIUS=500;X-TITLE=722 Bonaventure Way:geo:-95.6431251,29.6060186
END:VEVENT
BEGIN:VEVENT
DTSTART;VALUE=DATE:20221023
DTEND;VALUE=DATE:20221025
DTSTAMP:20260422T115437
CREATED:20220812T174747Z
LAST-MODIFIED:20220812T175353Z
UID:10000078-1666551600-1666637999@fbcgop.org
SUMMARY:Early Voting Begins
DESCRIPTION:Early voting begins on October 24 for the November 8 mid-term elections. \nCheck out the Fort Bend County Elections Website for more information.
URL:https://fbcgop.org/event/early-voting-begins/
LOCATION:TX
END:VEVENT
BEGIN:VEVENT
DTSTART;TZID=America/Chicago:20221021T173000
DTEND;TZID=America/Chicago:20221021T210000
DTSTAMP:20260422T115437
CREATED:20221021T130101Z
LAST-MODIFIED:20221021T130101Z
UID:10000014-1666373400-1666386000@fbcgop.org
SUMMARY:Fiesta for Ray Aguilar\, Candidate for Commissioner\, Precinct 4
DESCRIPTION:Join the Fun! \nComplimentary Food from Mike’s La Taqueria and Michelada Bar
URL:https://fbcgop.org/event/fiesta-for-ray-aguilar-candidate-for-commissioner-precinct-4/
LOCATION:The Prince Event Center\, 1022 Herndon Dr.\, Rosenberg\, TX\, 77471
ATTACH;FMTTYPE=image/png:https://fbcgop.org/wp-content/uploads/2022/10/Screen-Shot-2022-10-21-at-9.00.19-AM.png
GEO:29.5644499;-95.7817539
X-APPLE-STRUCTURED-LOCATION;VALUE=URI;X-ADDRESS=The Prince Event Center 1022 Herndon Dr. Rosenberg TX 77471;X-APPLE-RADIUS=500;X-TITLE=1022 Herndon Dr.:geo:-95.7817539,29.5644499
END:VEVENT
BEGIN:VEVENT
DTSTART;TZID=America/Chicago:20221019T160000
DTEND;TZID=America/Chicago:20221019T170000
DTSTAMP:20260422T115437
CREATED:20220929T180515Z
LAST-MODIFIED:20220929T181219Z
UID:10000024-1666195200-1666198800@fbcgop.org
SUMMARY:INDO-AMERICAN CONSERVATIVES OF TEXAS - Freedom Radio
DESCRIPTION:I-ACT for FREEDOM RADIO\nFM-98.7 \nCALL IN NUMBER\n281-277-6874 \nEVERY WEDNESDAY\nFROM 4PM TO 5PM. \nContact RAMESH CHERIVIRALA\nfor information\nemail: RCHERIVIRALA@GMAIL.COM\nphone: 713-875-4336
URL:https://fbcgop.org/event/indo-american-conservatives-of-texas/2022-10-19/
LOCATION:FM 98.7
ATTACH;FMTTYPE=image/jpeg:https://fbcgop.org/wp-content/uploads/2022/09/IACT.jpg
ORGANIZER;CN="Indo-American Conservatives of Texas":MAILTO:iactx1@gmail.com
END:VEVENT
BEGIN:VEVENT
DTSTART;TZID=America/Chicago:20221018T183000
DTEND;TZID=America/Chicago:20221018T183000
DTSTAMP:20260422T115437
CREATED:20221011T182035Z
LAST-MODIFIED:20221011T182035Z
UID:10000012-1666117800-1666117800@fbcgop.org
SUMMARY:Needville Republican Women - Meet the Candidates
DESCRIPTION:Join us in supporting our Guest speakers \nTrever Nehls\,\nCandidate Ft. Bend County Judge & \nBill Rickert\,\nRe-Elect Ft. Bend County Treasurer \n  \n  \nPlease RSVP\nby Email    or message on Facebook
URL:https://fbcgop.org/event/needville-republican-women-meet-the-candidates/
LOCATION:Los Charro’s Mexican Restaurant\, 9017 Main Street\, Needville\, TX
GEO:29.3994101;-95.8377297
X-APPLE-STRUCTURED-LOCATION;VALUE=URI;X-ADDRESS=Los Charro’s Mexican Restaurant 9017 Main Street Needville TX;X-APPLE-RADIUS=500;X-TITLE=9017 Main Street:geo:-95.8377297,29.3994101
END:VEVENT
BEGIN:VEVENT
DTSTART;TZID=America/Chicago:20221015T150000
DTEND;TZID=America/Chicago:20221015T170000
DTSTAMP:20260422T115437
CREATED:20220921T234939Z
LAST-MODIFIED:20221009T142650Z
UID:10000089-1665846000-1665853200@fbcgop.org
SUMMARY:Rally for Victory with Jim Jordan
DESCRIPTION:Are you ready to win in November! If so\, mark your calendars for Saturday\, October 15 for the rally that kicks off our march to victory. Special guests include Reps. Jim Jordan and Troy Nehls along with a host of other exciting participants. The rally is FREE to the public\, so get there early and make plans to let your patriotic spirit be heard by the entire county. \nJoin us for the Rally for Victory! \nThis event is open to all patriots for no charge. Let’s show Fort Bend County that Republicans are ready to lead and ready to win! \nSpecial thanks goes out to our sponsors:  David Boehm\, Bobby Eberle\, State Rep. Gary Gates\, State Sen. Joan Huffman\, Mike Khan\, State Sen. Lois Kolkhorst\, Bob Lanham\, Trever Nehls\, and Rep. Troy Nehls.
URL:https://fbcgop.org/event/rally-for-victory-with-jim-jordan/
LOCATION:Freedom Hall\, 1612 Crabb River Road\, Richmond\, TX\, 77469
ATTACH;FMTTYPE=image/jpeg:https://fbcgop.org/wp-content/uploads/2022/09/victory_rally-1.jpg
ORGANIZER;CN="Fort Bend County Republican Party":MAILTO:communications@fbcgop.org
GEO:29.556615;-95.6922722
X-APPLE-STRUCTURED-LOCATION;VALUE=URI;X-ADDRESS=Freedom Hall 1612 Crabb River Road Richmond TX 77469;X-APPLE-RADIUS=500;X-TITLE=1612 Crabb River Road:geo:-95.6922722,29.556615
END:VEVENT
BEGIN:VEVENT
DTSTART;TZID=America/Chicago:20221015T083000
DTEND;TZID=America/Chicago:20221015T140000
DTSTAMP:20260422T115437
CREATED:20221009T142415Z
LAST-MODIFIED:20221009T190244Z
UID:10000032-1665822600-1665842400@fbcgop.org
SUMMARY:Judicial Block Walk
DESCRIPTION:Please join fellow Fort Bend County volunteers as we reach voters this Saturday during our special block walk event.  Block walking is a crucial part of voter outreach\, and your help is greatly appreciated!  It’s great exercise\, and you get to meet some really good people in the Fort Bend community.  Please come out and support our outstanding judicial candidates. \nThe Perfect Latte\n7417 W. Grand Parkway S\nRichmond\, TX 77407\n8:30 am on Saturday\, October 15 \nSee you there!
URL:https://fbcgop.org/event/judicial-block-walk/
LOCATION:The Perfect Latte\, 7417 W. Grand Parkway S\, Richmond\, TX\, 77407\, United States
ATTACH;FMTTYPE=image/jpeg:https://fbcgop.org/wp-content/uploads/2022/10/judges.jpg
GEO:29.6694603;-95.7478996
X-APPLE-STRUCTURED-LOCATION;VALUE=URI;X-ADDRESS=The Perfect Latte 7417 W. Grand Parkway S Richmond TX 77407 United States;X-APPLE-RADIUS=500;X-TITLE=7417 W. Grand Parkway S:geo:-95.7478996,29.6694603
END:VEVENT
BEGIN:VEVENT
DTSTART;TZID=America/Chicago:20221014T140000
DTEND;TZID=America/Chicago:20221014T140000
DTSTAMP:20260422T115437
CREATED:20220817T205034Z
LAST-MODIFIED:20220817T210416Z
UID:10000039-1665756000-1665756000@fbcgop.org
SUMMARY:Coalition of Americans for Actions and Principles (CAAP) Gala
DESCRIPTION:Meet the NFL Star-turned-Congressman Headlining the CAAP Gala\nYou could probably say that defending Christian values comes naturally to the keynote speaker for this year’s CAAP gala. \nBefore he was a Congressman from Utah\, Burgess Owens was an All-American defensive back for the University of Miami\, a first round draft pick\, a New York Jet\, and a member of the Raiders’ 1980 Superbowl team. \nNow\, Congressman Owens has made a name for himself on Capitol Hill\, where he consistently supports the values of faith\, life\, and family.  Here are a few of his recent positions and statements . . .[Read more: Bill Owens – CAAP Gala 2022] \nFriday\, October 14th – 7 pm (Doors open at 6:30 pm)\nCouples: $300 – Individuals: $175 – Please purchase tickets bu September 30\, 2022\nMore Information & Tickets: http://CAAPUSA.ORG
URL:https://fbcgop.org/event/coalition-of-americans-for-actions-and-principles-caap-gala/
LOCATION:Palacio Maria\, 21728 Highland Knolls\, Katy\, TX\, 77450
ATTACH;FMTTYPE=image/jpeg:https://fbcgop.org/wp-content/uploads/2022/08/Featureqtq80-89j3BY-1536x1025-1.jpeg
ORGANIZER;CN="Coalition of Americans for Action and Principles":MAILTO:dowens@caapusa.org
GEO:29.760394;-95.74899
X-APPLE-STRUCTURED-LOCATION;VALUE=URI;X-ADDRESS=Palacio Maria 21728 Highland Knolls Katy TX 77450;X-APPLE-RADIUS=500;X-TITLE=21728 Highland Knolls:geo:-95.74899,29.760394
END:VEVENT
BEGIN:VEVENT
DTSTART;TZID=America/Chicago:20221012T183000
DTEND;TZID=America/Chicago:20221012T200000
DTSTAMP:20260422T115437
CREATED:20220915T173011Z
LAST-MODIFIED:20220915T173011Z
UID:10000087-1665599400-1665604800@fbcgop.org
SUMMARY:Precinct 1 Meet and Greet with Justices candidates and Judges
DESCRIPTION:Precinct 1 Meet and Greet with Justices candidates and Judges\n  \nVOTE FOR PUBLIC SAFETY AND JUSTICE\nDate: October 12\, 2022\nTime: 06:30 pm to 8:00 pm\nLocation: Seven Meadows Association Community Center\n23610 Seven Meadows Pkwy.\nKaty\, TX. 77494 \nSee Flyer
URL:https://fbcgop.org/event/precinct-1-meet-and-greet-with-justices-candidates-and-judges/
LOCATION:Seven Meadows Association Community Center\, 23610 Seven Meadows Pkwy\, Katy\, TX\, 77494\, United States
ATTACH;FMTTYPE=image/jpeg:https://fbcgop.org/wp-content/uploads/2022/09/gavel.jpg
ORGANIZER;CN="FBC GOP Precinct 1":MAILTO:asian_outreach@usa.com
GEO:29.7083876;-95.7846771
X-APPLE-STRUCTURED-LOCATION;VALUE=URI;X-ADDRESS=Seven Meadows Association Community Center 23610 Seven Meadows Pkwy Katy TX 77494 United States;X-APPLE-RADIUS=500;X-TITLE=23610 Seven Meadows Pkwy:geo:-95.7846771,29.7083876
END:VEVENT
BEGIN:VEVENT
DTSTART;TZID=America/Chicago:20221012T160000
DTEND;TZID=America/Chicago:20221012T170000
DTSTAMP:20260422T115437
CREATED:20220929T180515Z
LAST-MODIFIED:20220929T181219Z
UID:10000023-1665590400-1665594000@fbcgop.org
SUMMARY:INDO-AMERICAN CONSERVATIVES OF TEXAS - Freedom Radio
DESCRIPTION:I-ACT for FREEDOM RADIO\nFM-98.7 \nCALL IN NUMBER\n281-277-6874 \nEVERY WEDNESDAY\nFROM 4PM TO 5PM. \nContact RAMESH CHERIVIRALA\nfor information\nemail: RCHERIVIRALA@GMAIL.COM\nphone: 713-875-4336
URL:https://fbcgop.org/event/indo-american-conservatives-of-texas/2022-10-12/
LOCATION:FM 98.7
ATTACH;FMTTYPE=image/jpeg:https://fbcgop.org/wp-content/uploads/2022/09/IACT.jpg
ORGANIZER;CN="Indo-American Conservatives of Texas":MAILTO:iactx1@gmail.com
END:VEVENT
BEGIN:VEVENT
DTSTART;TZID=America/Chicago:20221012T130000
DTEND;TZID=America/Chicago:20221012T143000
DTSTAMP:20260422T115437
CREATED:20220704T123322Z
LAST-MODIFIED:20221010T131606Z
UID:10000044-1665579600-1665585000@fbcgop.org
SUMMARY:Sweetgrass Republican Club - October Meeting
DESCRIPTION:CD 22-Troy Nehls \nCD 7-Johnny Teague \nSBOE 7-Julie Pickren \nSweetgrass Clubhouse\n707 Del Webb Blvd.\nRichmond\, TX 77469
URL:https://fbcgop.org/event/sweetgrass-republican-club-october-meeting/
LOCATION:Sweetgrass Clubhouse\, 707 Del Webb Blvd.\, Richmond\, TX\, 77469
GEO:29.5585299;-95.7475087
X-APPLE-STRUCTURED-LOCATION;VALUE=URI;X-ADDRESS=Sweetgrass Clubhouse 707 Del Webb Blvd. Richmond TX 77469;X-APPLE-RADIUS=500;X-TITLE=707 Del Webb Blvd.:geo:-95.7475087,29.5585299
END:VEVENT
BEGIN:VEVENT
DTSTART;TZID=America/Chicago:20221011T183000
DTEND;TZID=America/Chicago:20221011T200000
DTSTAMP:20260422T115437
CREATED:20220912T111834Z
LAST-MODIFIED:20220912T111834Z
UID:10000084-1665513000-1665518400@fbcgop.org
SUMMARY:FBCGOP Executive Committee Meeting
DESCRIPTION:
URL:https://fbcgop.org/event/fbcgop-executive-committee-meeting/
LOCATION:Safari Texas Ranch\, 11627 FM 1464\, Richmond\, TX\, 77407
GEO:29.6461381;-95.6765086
X-APPLE-STRUCTURED-LOCATION;VALUE=URI;X-ADDRESS=Safari Texas Ranch 11627 FM 1464 Richmond TX 77407;X-APPLE-RADIUS=500;X-TITLE=11627 FM 1464:geo:-95.6765086,29.6461381
END:VEVENT
BEGIN:VEVENT
DTSTART;VALUE=DATE:20221010
DTEND;VALUE=DATE:20221012
DTSTAMP:20260422T115437
CREATED:20220812T174023Z
LAST-MODIFIED:20220812T174353Z
UID:10000077-1665428400-1665514799@fbcgop.org
SUMMARY:Last Day to Register to Vote
DESCRIPTION:October 11\, 2022 is the last day to vote for the November 8 mid-term elections. \nFor voter registration information\, please check the Fort Bend County website
URL:https://fbcgop.org/event/last-day-to-register-to-vote/
LOCATION:TX
END:VEVENT
BEGIN:VEVENT
DTSTART;TZID=America/Chicago:20221010T183000
DTEND;TZID=America/Chicago:20221010T203000
DTSTAMP:20260422T115437
CREATED:20221010T171632Z
LAST-MODIFIED:20221010T171632Z
UID:10000011-1665426600-1665433800@fbcgop.org
SUMMARY:Eastern Fort Bend Republican Club - Monthly Meeting
DESCRIPTION:Note New Location
URL:https://fbcgop.org/event/eastern-fort-bend-republican-club-monthly-meeting/
LOCATION:Fort Bend County Library – Sienna Banch\, 8411 Sienna Springs Blvd\, Missouri City\, TX\, United States
GEO:29.5324948;-95.5393358
X-APPLE-STRUCTURED-LOCATION;VALUE=URI;X-ADDRESS=Fort Bend County Library – Sienna Banch 8411 Sienna Springs Blvd Missouri City TX United States;X-APPLE-RADIUS=500;X-TITLE=8411 Sienna Springs Blvd:geo:-95.5393358,29.5324948
END:VEVENT
BEGIN:VEVENT
DTSTART;TZID=America/Chicago:20221008T190000
DTEND;TZID=America/Chicago:20221008T220000
DTSTAMP:20260422T115437
CREATED:20220930T174602Z
LAST-MODIFIED:20221005T190618Z
UID:10000030-1665255600-1665266400@fbcgop.org
SUMMARY:Meet and Greet with Trever Nehls
DESCRIPTION:Meet and Greet with Trever Nehls \nFree food\, drinks\, and live performance by C-Leap Band. \nFeaturing \nspecial book signing by Congressman Troy Nehls for his book The Big Fraud. \n  \nFor More information:\njjzclemence@gmail.com \n 
URL:https://fbcgop.org/event/meet-and-greet-with-trever-nehls/
LOCATION:Freedom Hall\, 1612 Crabb River Road\, Richmond\, TX\, 77469
ATTACH;FMTTYPE=image/jpeg:https://fbcgop.org/wp-content/uploads/2022/09/IACT.jpg
ORGANIZER;CN="Indo-American Conservatives of Texas":MAILTO:iactx1@gmail.com
GEO:29.556615;-95.6922722
X-APPLE-STRUCTURED-LOCATION;VALUE=URI;X-ADDRESS=Freedom Hall 1612 Crabb River Road Richmond TX 77469;X-APPLE-RADIUS=500;X-TITLE=1612 Crabb River Road:geo:-95.6922722,29.556615
END:VEVENT
BEGIN:VEVENT
DTSTART;TZID=America/Chicago:20221008T080000
DTEND;TZID=America/Chicago:20221009T170000
DTSTAMP:20260422T115437
CREATED:20220906T213451Z
LAST-MODIFIED:20220906T213451Z
UID:10000082-1665216000-1665334800@fbcgop.org
SUMMARY:Texas Youth Summit
DESCRIPTION:The second Texas Youth Summit to be hosted Oct. 8 and 9 by U.S. Rep. Dan Crenshaw of Houston\, offers a lineup that includes Gov. Greg Abbott\, former Wall Street tycoon Jordan Belfort and Seth Dillon\, the CEO of the conservative satire site Babylon Bee
URL:https://fbcgop.org/event/texas-youth-summit-2/
LOCATION:TX
END:VEVENT
BEGIN:VEVENT
DTSTART;TZID=America/Chicago:20221006T183000
DTEND;TZID=America/Chicago:20221006T200000
DTSTAMP:20260422T115437
CREATED:20220915T170523Z
LAST-MODIFIED:20220915T171336Z
UID:10000086-1665081000-1665086400@fbcgop.org
SUMMARY:Precinct 1 Meet and Greet with Fort Bend County Government candidates
DESCRIPTION:Precinct 1 Meet and Greet with Fort Bend County Government candidates:\nTrever Nehls * Bill Rickert * Laura Richard * Annie Elliott * Tricia Krenek * Kelly Crow\nVincent Morales Jr. Pct. 1 Commissioner will also be there\nDate: Oct 6th 2022\nTime: 06:30 pm to 8:00 pm \nLocation: Irene Stern Community Center\n6920 Katy-Fulshear Road\, Flushear\, TX. 77441 \nSee Flyer \n 
URL:https://fbcgop.org/event/precinct-1-meet-and-greet-with-fort-bend-county-government-candidates/
LOCATION:Irene Stern Community Center\, 6920 Katy-Fulshear Road\, Fulshear\, TX\, 77441\, United States
ATTACH;FMTTYPE=image/jpeg:https://fbcgop.org/wp-content/uploads/2022/09/P1.jpg
ORGANIZER;CN="FBC GOP Precinct 1":MAILTO:asian_outreach@usa.com
GEO:29.7029259;-95.8908558
X-APPLE-STRUCTURED-LOCATION;VALUE=URI;X-ADDRESS=Irene Stern Community Center 6920 Katy-Fulshear Road Fulshear TX 77441 United States;X-APPLE-RADIUS=500;X-TITLE=6920 Katy-Fulshear Road:geo:-95.8908558,29.7029259
END:VEVENT
BEGIN:VEVENT
DTSTART;TZID=America/Chicago:20221006T113000
DTEND;TZID=America/Chicago:20221006T133000
DTSTAMP:20260422T115437
CREATED:20220923T112853Z
LAST-MODIFIED:20230306T070703Z
UID:10000090-1665055800-1665063000@fbcgop.org
SUMMARY:RWCK General Meeting - Texas Border Crisis
DESCRIPTION:Sheriff Roy Boyd of Goliad County\ndiscusses collaboration of law enforcement agents\, border security initiatives\, innovative enforcement concepts & legislation to benefit Texans\n  \n  \nRegister online at: RWCK General Meeting – Texas Border Crisis – 10/6/2022\nMembers: Please log in to register\n$28.00 for Non-Members and $25.00 for Active Members\n$35.00 for All who pay at the door.
URL:https://fbcgop.org/event/rwck-general-meeting-texas-border-crisis/
LOCATION:Palacio Maria\, 21728 Highland Knolls\, Katy\, TX\, 77450
ATTACH;FMTTYPE=image/png:https://fbcgop.org/wp-content/uploads/2022/09/RWCK.png
GEO:29.760394;-95.74899
X-APPLE-STRUCTURED-LOCATION;VALUE=URI;X-ADDRESS=Palacio Maria 21728 Highland Knolls Katy TX 77450;X-APPLE-RADIUS=500;X-TITLE=21728 Highland Knolls:geo:-95.74899,29.760394
END:VEVENT
BEGIN:VEVENT
DTSTART;TZID=America/Chicago:20221005T160000
DTEND;TZID=America/Chicago:20221005T170000
DTSTAMP:20260422T115437
CREATED:20220929T180515Z
LAST-MODIFIED:20220929T181219Z
UID:10000022-1664985600-1664989200@fbcgop.org
SUMMARY:INDO-AMERICAN CONSERVATIVES OF TEXAS - Freedom Radio
DESCRIPTION:I-ACT for FREEDOM RADIO\nFM-98.7 \nCALL IN NUMBER\n281-277-6874 \nEVERY WEDNESDAY\nFROM 4PM TO 5PM. \nContact RAMESH CHERIVIRALA\nfor information\nemail: RCHERIVIRALA@GMAIL.COM\nphone: 713-875-4336
URL:https://fbcgop.org/event/indo-american-conservatives-of-texas/2022-10-05/
LOCATION:FM 98.7
ATTACH;FMTTYPE=image/jpeg:https://fbcgop.org/wp-content/uploads/2022/09/IACT.jpg
ORGANIZER;CN="Indo-American Conservatives of Texas":MAILTO:iactx1@gmail.com
END:VEVENT
BEGIN:VEVENT
DTSTART;TZID=America/Chicago:20221004T180000
DTEND;TZID=America/Chicago:20221004T193000
DTSTAMP:20260422T115437
CREATED:20220915T174417Z
LAST-MODIFIED:20220918T112004Z
UID:10000088-1664906400-1664911800@fbcgop.org
SUMMARY:Meet and Greet for Troy and Trever Nehls
DESCRIPTION:There will be a Meet and Greet for both Nehls’s brothers on Oct. 4th 6 to 7:30 at the Ol’ Railroad Cafe in Rosenberg. It will include a book signing for Troy. The owner will have snacks and provide drinks.  The restaurant is usually closed on weekday nights\, but they will have the bar and kitchen open if some want to order a meal or buy a drink at the bar. The doors between the restaurant and Heritage Hall will be open so both sides should easily accommodate the crowd. \nDownload Flyer:  Cyndi_flyer_v2
URL:https://fbcgop.org/event/meet-and-greet-for-troy-and-trever-nehls/
LOCATION:Ol’ Railroad Cafe\, 1901 Avenue G\, Rosenberg\, TX\, 77471
GEO:29.5595445;-95.807637
X-APPLE-STRUCTURED-LOCATION;VALUE=URI;X-ADDRESS=Ol’ Railroad Cafe 1901 Avenue G Rosenberg TX 77471;X-APPLE-RADIUS=500;X-TITLE=1901 Avenue G:geo:-95.807637,29.5595445
END:VEVENT
BEGIN:VEVENT
DTSTART;TZID=America/Chicago:20221001T130000
DTEND;TZID=America/Chicago:20221001T160000
DTSTAMP:20260422T115437
CREATED:20220929T111928Z
LAST-MODIFIED:20220929T112138Z
UID:10000020-1664629200-1664640000@fbcgop.org
SUMMARY:Florida Relief Team for Hurricane Ian
DESCRIPTION:Join the FLORIDA RELIEF TEAM! Let’s show what Fort Bend County is all about! \n\nTo help our friends to the east after the devastation from Hurricane Ian\, we will be gathering supplies to send to Florida.\n\nSugar Land City Council Member William Ferguson will provide a trailer\, so let’s help our Florida neighbors by completely filling it with much needed supplies!\n\nPlease do what you can to help. Supplies will be collected on Saturday\, October 1 from 1-4 pm. Come on out\, and let’s send some Fort Bend County love to Florida.\n\n\nDONATE:\nCanned or Dried Food\nCan Openers\nPersonal Care Items – soap\, tooth paste\, tooth brushes\, deodorant\, combs\, hair brushes\, shampoo\, feminine care products\, new underwear and socks in original packaging\nCleaning Supplies\nBaby Products\nKitchen Items – new dishes\, pots\, and pans\nBedding\nTowels\nTarps and Trash Bags\n\n\nDON’T DONATE:\nClothing\nWater\nUsed\, broken\, or soiled items\n\nGreatwood Community Association “Pool #2”\n8802 Greatwood Parkway\nSugar Land\, TX
URL:https://fbcgop.org/event/florida-relief-team-for-hurricane-ian/
LOCATION:Greatwood Community Association “Pool #2”\, 8802 Greatwood Parkway\, Sugar Land\, TX\, 77479\, United States
ATTACH;FMTTYPE=image/jpeg:https://fbcgop.org/wp-content/uploads/2022/09/event1.jpg
ORGANIZER;CN="Fort Bend County Republican Party":MAILTO:communications@fbcgop.org
GEO:29.5598116;-95.6678887
X-APPLE-STRUCTURED-LOCATION;VALUE=URI;X-ADDRESS=Greatwood Community Association “Pool #2” 8802 Greatwood Parkway Sugar Land TX 77479 United States;X-APPLE-RADIUS=500;X-TITLE=8802 Greatwood Parkway:geo:-95.6678887,29.5598116
END:VEVENT
BEGIN:VEVENT
DTSTART;TZID=America/Chicago:20220928T063000
DTEND;TZID=America/Chicago:20220928T080000
DTSTAMP:20260422T115437
CREATED:20220819T165705Z
LAST-MODIFIED:20220820T185407Z
UID:10000067-1664346600-1664352000@fbcgop.org
SUMMARY:Fort Bend Republican Women's Club
DESCRIPTION:September Membership Meeting\nSeptember 28\, 2022\nDr. Dana Myers\nVice Chairman\nTexas Republican Party
URL:https://fbcgop.org/event/2652/
LOCATION:Hilton Garden Inn\, 722 Bonaventure Way\, Sugar Land\, TX\, 77479
ORGANIZER;CN="Fort Bend Republican Women's Club":MAILTO:mtmoffett@outlook.com
GEO:29.6060186;-95.6431251
X-APPLE-STRUCTURED-LOCATION;VALUE=URI;X-ADDRESS=Hilton Garden Inn 722 Bonaventure Way Sugar Land TX 77479;X-APPLE-RADIUS=500;X-TITLE=722 Bonaventure Way:geo:-95.6431251,29.6060186
END:VEVENT
BEGIN:VEVENT
DTSTART;TZID=America/Chicago:20220924T170000
DTEND;TZID=America/Chicago:20220924T170000
DTSTAMP:20260422T115437
CREATED:20220826T111333Z
LAST-MODIFIED:20220826T111333Z
UID:10000004-1664038800-1664038800@fbcgop.org
SUMMARY:Fort Bend County Young Republicans
DESCRIPTION:Drag Bingo Protest\n\nThe First Christian Church Katy is hosting Drag Queen Kiki Dion Van Whales and Trisha Delish for a child grooming drag bingo show. FBCYR will be protesting against this dangerous and immoral event. Please RSVP! \nRSVP
URL:https://fbcgop.org/event/fort-bend-county-young-republicans-3/
LOCATION:First Christian Church Katy\, 22101 Morton Ranch Rd\, Katy\, TX\, 77449
ATTACH;FMTTYPE=image/jpeg:https://fbcgop.org/wp-content/uploads/2022/08/FBCYR-1.jpg
ORGANIZER;CN="Fort Bend Young Republicans":MAILTO:fbc.youngrepublicans@gmail.com
GEO:29.8163001;-95.7548335
X-APPLE-STRUCTURED-LOCATION;VALUE=URI;X-ADDRESS=First Christian Church Katy 22101 Morton Ranch Rd Katy TX 77449;X-APPLE-RADIUS=500;X-TITLE=22101 Morton Ranch Rd:geo:-95.7548335,29.8163001
END:VEVENT
BEGIN:VEVENT
DTSTART;TZID=America/Chicago:20220923T180000
DTEND;TZID=America/Chicago:20220923T233000
DTSTAMP:20260422T115437
CREATED:20220826T110318Z
LAST-MODIFIED:20220826T110318Z
UID:10000003-1663956000-1663975800@fbcgop.org
SUMMARY:Fort Bend County Young Republicans
DESCRIPTION:FBCYR Social: County Fair & Concert\n\nKicking off the Fair on Friday\, September 23rd\, from Stephenville\, Texas\, Giovannie & the Hired Guns. Join FBCYR at the first night of the fair. \nBuy your ticket here:  https://www.fortbendcountyfair.com/p/tickets–deals \n\n\nRSVP
URL:https://fbcgop.org/event/fort-bend-county-young-republicans-2/
LOCATION:Fort Bend County Fairgrounds\, 4310 TX-36 S\, Rosenberg\, TX\, 77471
ATTACH;FMTTYPE=image/jpeg:https://fbcgop.org/wp-content/uploads/2022/08/FBCYR.jpg
ORGANIZER;CN="Fort Bend Young Republicans":MAILTO:fbc.youngrepublicans@gmail.com
GEO:29.5219803;-95.8088213
X-APPLE-STRUCTURED-LOCATION;VALUE=URI;X-ADDRESS=Fort Bend County Fairgrounds 4310 TX-36 S Rosenberg TX 77471;X-APPLE-RADIUS=500;X-TITLE=4310 TX-36 S:geo:-95.8088213,29.5219803
END:VEVENT
BEGIN:VEVENT
DTSTART;TZID=America/Chicago:20220923T090000
DTEND;TZID=America/Chicago:20220923T110000
DTSTAMP:20260422T115437
CREATED:20220826T112724Z
LAST-MODIFIED:20220826T112724Z
UID:10000010-1663923600-1663930800@fbcgop.org
SUMMARY:Fort Bend County Young Republicans
DESCRIPTION:County Parade\n\nWe have a float!!! \nThe 2022 Fort Bend County Fair Parade will officially kick off the 86th Annual Fort Bend County Fair & Rodeo on Friday\, September 23rd at 9:00 am. The theme for this year is “Generations of Champions”. FBCYR has a float and we want you on it!  RSVP \nYou do need to fill out this liability form and return it to Mary or Alex asap!  Release Form
URL:https://fbcgop.org/event/fort-bend-county-young-republicans-4/
LOCATION:Downtown Richmond\, 400 Jackson Street\, Richmond\, TX\, 77469
ATTACH;FMTTYPE=image/jpeg:https://fbcgop.org/wp-content/uploads/2022/08/FBCYR-2.jpg
ORGANIZER;CN="Fort Bend Young Republicans":MAILTO:fbc.youngrepublicans@gmail.com
GEO:29.5823103;-95.7618094
X-APPLE-STRUCTURED-LOCATION;VALUE=URI;X-ADDRESS=Downtown Richmond 400 Jackson Street Richmond TX 77469;X-APPLE-RADIUS=500;X-TITLE=400 Jackson Street:geo:-95.7618094,29.5823103
END:VEVENT
BEGIN:VEVENT
DTSTART;TZID=America/Chicago:20220922T180000
DTEND;TZID=America/Chicago:20220922T200000
DTSTAMP:20260422T115437
CREATED:20220914T133401Z
LAST-MODIFIED:20220914T135407Z
UID:10000085-1663869600-1663876800@fbcgop.org
SUMMARY:Laura Richard - Fort Bend County Clerk
DESCRIPTION:You are cordially invited to a\nmeet & greet reception honoring \nLaura Richard\nFort Bend County Clerk\nThursday September 22\nLa Escondida\nMissouri City \nHosted by\nSharlene Jacobson & Don Smithers \nPlease RSVP to:\nsharlenesnewlife@gmail.com \n  \nMore About Laura
URL:https://fbcgop.org/event/laura-richard-fort-bend-county-clerk/
LOCATION:La Escondida\, 7270 Highway 6\, Missouri City\, TX\, 77459
ATTACH;FMTTYPE=image/png:https://fbcgop.org/wp-content/uploads/2022/09/Screenshot-2022-09-14-093258.png
GEO:29.5524402;-95.5538118
X-APPLE-STRUCTURED-LOCATION;VALUE=URI;X-ADDRESS=La Escondida 7270 Highway 6 Missouri City TX 77459;X-APPLE-RADIUS=500;X-TITLE=7270 Highway 6:geo:-95.5538118,29.5524402
END:VEVENT
END:VCALENDAR