BEGIN:VCALENDAR
VERSION:2.0
PRODID:-//Fort Bend County Republican Party - ECPv6.14.0//NONSGML v1.0//EN
CALSCALE:GREGORIAN
METHOD:PUBLISH
X-ORIGINAL-URL:https://fbcgop.org
X-WR-CALDESC:Events for Fort Bend County Republican Party
REFRESH-INTERVAL;VALUE=DURATION:PT1H
X-Robots-Tag:noindex
X-PUBLISHED-TTL:PT1H
BEGIN:VTIMEZONE
TZID:America/Chicago
BEGIN:DAYLIGHT
TZOFFSETFROM:-0600
TZOFFSETTO:-0500
TZNAME:CDT
DTSTART:20250309T080000
END:DAYLIGHT
BEGIN:STANDARD
TZOFFSETFROM:-0500
TZOFFSETTO:-0600
TZNAME:CST
DTSTART:20251102T070000
END:STANDARD
BEGIN:DAYLIGHT
TZOFFSETFROM:-0600
TZOFFSETTO:-0500
TZNAME:CDT
DTSTART:20260308T080000
END:DAYLIGHT
BEGIN:STANDARD
TZOFFSETFROM:-0500
TZOFFSETTO:-0600
TZNAME:CST
DTSTART:20261101T070000
END:STANDARD
END:VTIMEZONE
BEGIN:VEVENT
DTSTART;TZID=America/Chicago:20251106T113000
DTEND;TZID=America/Chicago:20251106T133000
DTSTAMP:20260423T052810
CREATED:20251103T142255Z
LAST-MODIFIED:20251103T142255Z
UID:10000270-1762428600-1762435800@fbcgop.org
SUMMARY:RWCK November Meeting
DESCRIPTION:Please join the Republican Women’s Club of Katy to learn or relearn key facts of our beloved country’s fascinating history as we prepare for America’s 250th birthday in 2026.
URL:https://fbcgop.org/event/rwck-november-meeting/
LOCATION:Palacio Maria\, 21728 Highland Knolls\, Katy\, TX\, 77450
ATTACH;FMTTYPE=image/png:https://fbcgop.org/wp-content/uploads/2024/10/RWCK-Logo-2.png
GEO:29.760394;-95.74899
X-APPLE-STRUCTURED-LOCATION;VALUE=URI;X-ADDRESS=Palacio Maria 21728 Highland Knolls Katy TX 77450;X-APPLE-RADIUS=500;X-TITLE=21728 Highland Knolls:geo:-95.74899,29.760394
END:VEVENT
BEGIN:VEVENT
DTSTART;TZID=America/Chicago:20251108T090000
DTEND;TZID=America/Chicago:20251108T120000
DTSTAMP:20260423T052810
CREATED:20251103T142732Z
LAST-MODIFIED:20251103T142732Z
UID:10000271-1762592400-1762603200@fbcgop.org
SUMMARY:Candidate Filing Breakfast
DESCRIPTION:Candidate filing opens on November 8.  If you are going to be on the ballot in 2026\, you must file your candidate application with the Fort Bend County Republican Party if the office you are seeking is wholly within the county. \nCome on out and file your paperwork on Saturday morning from 9 am to 12 pm.  Breakfast will be provided.
URL:https://fbcgop.org/event/candidate-filing-breakfast/
LOCATION:FBC GOP Headquarters\, 14019 SW Freeway #340\, Sugar Land\, TX\, 77478
ATTACH;FMTTYPE=image/png:https://fbcgop.org/wp-content/uploads/2022/08/fbcgop-logo-transparent.png
ORGANIZER;CN="Fort Bend County Republican Party":MAILTO:communications@fbcgop.org
GEO:29.6192359;-95.6020068
X-APPLE-STRUCTURED-LOCATION;VALUE=URI;X-ADDRESS=FBC GOP Headquarters 14019 SW Freeway #340 Sugar Land TX 77478;X-APPLE-RADIUS=500;X-TITLE=14019 SW Freeway #340:geo:-95.6020068,29.6192359
END:VEVENT
BEGIN:VEVENT
DTSTART;TZID=America/Chicago:20251119T111500
DTEND;TZID=America/Chicago:20251119T130000
DTSTAMP:20260423T052810
CREATED:20250918T161821Z
LAST-MODIFIED:20250918T162002Z
UID:10000265-1763550900-1763557200@fbcgop.org
SUMMARY:Fort Bend Republican Women's Club
DESCRIPTION:The Future of the GOP\nKaleb Holmes\nChairman of Texas High School Republicans\n\nKaleb Holmes is a proud Texan\, a dedicated patriot\, and a rising star in the Republican Party. Born in Huntsville and raised in Cypress\, he currently attends Cypress Ranch High School\, where he has emerged as a strong voice for young Republicans across the state. \nKaleb began his political journey as an intern for Senator Ted Cruz’s campaign before founding the Harris County Chapter of High School Republicans and later serving as Texas’ statewide Political Director.  He was a founding executive of High School Republicans of America\, the official high school auxiliary of College Republicans of America and has since been appointed to statewide and national leadership roles by both organizations. \nAs a campaign communications advisor\, Kaleb works to help Republican candidates connect with younger voters\, develop messaging strategies and navigate new media.  Despite coming from a family of Democrats\, he has forged his own path in the conservative movement\, advocating for limited liberty\, and America First values.  Kaleb continues to fight for the future of the Republican Party by empowering the next generation of conservative leaders. \nRegister Now
URL:https://fbcgop.org/event/fort-bend-republican-womens-club-9/
LOCATION:Los Gallitos\, 3385 Highway 6\, Sugar Land\, 77478\, United States
ATTACH;FMTTYPE=image/jpeg:https://fbcgop.org/wp-content/uploads/2025/03/245475844_240014964839867_5549204967207257623_n.jpg
ORGANIZER;CN="Fort Bend Republican Women's Club":MAILTO:mtmoffett@outlook.com
GEO:29.5923164;-95.6023238
X-APPLE-STRUCTURED-LOCATION;VALUE=URI;X-ADDRESS=Los Gallitos 3385 Highway 6 Sugar Land 77478 United States;X-APPLE-RADIUS=500;X-TITLE=3385 Highway 6:geo:-95.6023238,29.5923164
END:VEVENT
BEGIN:VEVENT
DTSTART;TZID=America/Chicago:20251119T183000
DTEND;TZID=America/Chicago:20251119T203000
DTSTAMP:20260423T052810
CREATED:20251103T141555Z
LAST-MODIFIED:20251103T141555Z
UID:10000269-1763577000-1763584200@fbcgop.org
SUMMARY:Red\, White & Brew
DESCRIPTION:Join fellow conservatives for a relaxed social get-together — good drinks\, good company\, and great conversation about the future of our community.
URL:https://fbcgop.org/event/red-white-brew/
LOCATION:The Brass Tap\, 7109 Katy Gaston Rd.\, Richmond\, TX\, 77406
ATTACH;FMTTYPE=image/png:https://fbcgop.org/wp-content/uploads/2024/10/RWCK-Logo-2.png
END:VEVENT
BEGIN:VEVENT
DTSTART;TZID=America/Chicago:20251203T110000
DTEND;TZID=America/Chicago:20251203T130000
DTSTAMP:20260423T052810
CREATED:20251107T191332Z
LAST-MODIFIED:20251108T143129Z
UID:10000272-1764759600-1764766800@fbcgop.org
SUMMARY:Fort Bend Republican Women's Club
DESCRIPTION:Enjoy the festivities at our Annual Holiday Luncheon and Fundraiser\nFeaturing\nA Panel of Conservative Leaders for Christmas Conversations\,\nthe Golden Ellie Gift Boutique\, and the 2026 Officer Installation. \nEvent Details \nKick off the holiday season with flair as you mix and mingle with fellow club members\, friends\, and special guests at our Annual Holiday Luncheon. Visit Liberty Lane\, a delightful display of gingerbread houses\, expertly crafted by a Katy-area bakery which will provide a setting for warm conversation with our event sponsors. \nHunt for chic gifts and unique treasures at the Golden Ellie fundraising boutique before snapping festive photos with jolly Old St. Nick himself. You’ll also have the chance to win a variety of exciting door prizes throughout the event\, adding an extra touch of fun and surprise to the celebration. \nDon’t miss the heart of our event—the celebrated Christmas Conversations panel. Get ready for engaging holiday chat and timely takes on today’s news as local leaders share insights and keep the room buzzing with thoughtful\, spirited discussion. Every moment is a celebration of fellowship\, flavor\, and the values we cherish. \nA Celebration with Patriotism Baked Right In! \n———————————————————————————————————————————————-\nEarly Registration deadline is Wednesday November 19th\, 2025\, as the seats\, tables\, and opportunities are limited. Reserve early to enjoy preferred pricing and priority placement at this exclusive community event! \nMembers Individual Ticket Price — $60 Login first before purchase\nNon-Members/Guest Individual Ticket Price — $70\nNovember 20th – 25th All Individuals Ticket Price — $75\nSponsorship Tables Available \nRegistration Instructions\nClick Here\, then scroll to bottom of page
URL:https://fbcgop.org/event/fort-bend-republican-womens-club-10/
LOCATION:Sugar Creek Country Club\, 420 Sugar Creek Blvd\, Sugar Land\, 77478\, United States
ATTACH;FMTTYPE=image/jpeg:https://fbcgop.org/wp-content/uploads/2025/03/245475844_240014964839867_5549204967207257623_n.jpg
ORGANIZER;CN="Angela S Hayes":MAILTO:Ajshayes@gmail.com
GEO:29.6185257;-95.5985457
X-APPLE-STRUCTURED-LOCATION;VALUE=URI;X-ADDRESS=Sugar Creek Country Club 420 Sugar Creek Blvd Sugar Land 77478 United States;X-APPLE-RADIUS=500;X-TITLE=420 Sugar Creek Blvd:geo:-95.5985457,29.6185257
END:VEVENT
BEGIN:VEVENT
DTSTART;TZID=America/Chicago:20251204T113000
DTEND;TZID=America/Chicago:20251204T133000
DTSTAMP:20260423T052810
CREATED:20251124T153401Z
LAST-MODIFIED:20251124T153401Z
UID:10000274-1764847800-1764855000@fbcgop.org
SUMMARY:RWCK December Meeting
DESCRIPTION:Come out to hear Texas’ RNC National Committeewoman Debbie Georgatos.
URL:https://fbcgop.org/event/rwck-december-meeting/
LOCATION:Palacio Maria\, 21728 Highland Knolls\, Katy\, TX\, 77450
ATTACH;FMTTYPE=image/jpeg:https://fbcgop.org/wp-content/uploads/2022/07/RWCK.jpg
GEO:29.760394;-95.74899
X-APPLE-STRUCTURED-LOCATION;VALUE=URI;X-ADDRESS=Palacio Maria 21728 Highland Knolls Katy TX 77450;X-APPLE-RADIUS=500;X-TITLE=21728 Highland Knolls:geo:-95.74899,29.760394
END:VEVENT
BEGIN:VEVENT
DTSTART;TZID=America/Chicago:20251204T183000
DTEND;TZID=America/Chicago:20251204T213000
DTSTAMP:20260423T052810
CREATED:20251015T154840Z
LAST-MODIFIED:20251015T155231Z
UID:10000266-1764873000-1764883800@fbcgop.org
SUMMARY:GOP Christmas Party
DESCRIPTION:Food\, fun\, and fellowship! Come out to the Fort Bend County GOP Christmas Party! \nThe annual Fort Bend County GOP Christmas Party will be on Thursday\, December 4 starting at 6:30 pm\, and it promises to be a great time of fun\, food\, and fellowship! \nThis year’s venue is Houston Museum of Natural Science in Sugar Land\, and we will have access to all of the exhibits on the property. Come out and celebrate our Republican Party team! \nSponsorship opportunities are available. \nPlatinum — $5000\nGold — $2500\nSilver — $1000\nBronze — $500
URL:https://fbcgop.org/event/gop-christmas-party/
LOCATION:Houston Museum of Natural Science – Sugar Land\, 13016 University Blvd.\, Sugar Land\, TX\, 77479
ATTACH;FMTTYPE=image/jpeg:https://fbcgop.org/wp-content/uploads/2025/10/christmas_party_2025b.jpg
ORGANIZER;CN="Fort Bend County Republican Party":MAILTO:communications@fbcgop.org
GEO:29.5926893;-95.6498208
X-APPLE-STRUCTURED-LOCATION;VALUE=URI;X-ADDRESS=Houston Museum of Natural Science – Sugar Land 13016 University Blvd. Sugar Land TX 77479;X-APPLE-RADIUS=500;X-TITLE=13016 University Blvd.:geo:-95.6498208,29.5926893
END:VEVENT
BEGIN:VEVENT
DTSTART;TZID=America/Chicago:20251208T140000
DTEND;TZID=America/Chicago:20251208T180000
DTSTAMP:20260423T052810
CREATED:20251124T154105Z
LAST-MODIFIED:20251207T173901Z
UID:10000275-1765202400-1765216800@fbcgop.org
SUMMARY:Last Day of Candidate Filing
DESCRIPTION:This is the last day to file to be a candidate on the March 2026 primary ballot.  This includes all elected officials and Party officials (county chairman and precinct chairs).  Applications must be physically in the hands of County Chairman Bobby Eberle by 6:00 pm on December 8.  Chairman Eberle will be receiving applications at Party Headquarters from 2:00 pm to 6:00 pm.
URL:https://fbcgop.org/event/last-day-of-candidate-filing/
LOCATION:FBC GOP Headquarters\, 14019 SW Freeway #340\, Sugar Land\, TX\, 77478
ATTACH;FMTTYPE=image/jpeg:https://fbcgop.org/wp-content/uploads/2022/07/Logo-FortBendCounty_f.jpeg
ORGANIZER;CN="Fort Bend County Republican Party":MAILTO:communications@fbcgop.org
GEO:29.6192359;-95.6020068
X-APPLE-STRUCTURED-LOCATION;VALUE=URI;X-ADDRESS=FBC GOP Headquarters 14019 SW Freeway #340 Sugar Land TX 77478;X-APPLE-RADIUS=500;X-TITLE=14019 SW Freeway #340:geo:-95.6020068,29.6192359
END:VEVENT
BEGIN:VEVENT
DTSTART;TZID=America/Chicago:20251209T183000
DTEND;TZID=America/Chicago:20251209T203000
DTSTAMP:20260423T052810
CREATED:20251015T155441Z
LAST-MODIFIED:20251015T155441Z
UID:10000268-1765305000-1765312200@fbcgop.org
SUMMARY:FBC GOP Executive Committee Meeting
DESCRIPTION:Please make plans to attend the bi-monthly meeting of the Fort Bend County Republican Party Executive Committee. Meeting will be held at Safari Texas on Tuesday\, December 9.
URL:https://fbcgop.org/event/fbc-gop-executive-committee-meeting-13/
LOCATION:Safari Texas Ranch\, 11627 FM 1464\, Richmond\, TX\, 77407
ATTACH;FMTTYPE=image/jpeg:https://fbcgop.org/wp-content/uploads/2022/07/Logo-FortBendCounty_f.jpeg
ORGANIZER;CN="Fort Bend County Republican Party":MAILTO:communications@fbcgop.org
GEO:29.6461381;-95.6765086
X-APPLE-STRUCTURED-LOCATION;VALUE=URI;X-ADDRESS=Safari Texas Ranch 11627 FM 1464 Richmond TX 77407;X-APPLE-RADIUS=500;X-TITLE=11627 FM 1464:geo:-95.6765086,29.6461381
END:VEVENT
BEGIN:VEVENT
DTSTART;TZID=America/Chicago:20251210T183000
DTEND;TZID=America/Chicago:20251210T203000
DTSTAMP:20260423T052810
CREATED:20251207T174307Z
LAST-MODIFIED:20251207T174307Z
UID:10000276-1765391400-1765398600@fbcgop.org
SUMMARY:GKAR - Jingle and Mingle
DESCRIPTION:
URL:https://fbcgop.org/event/gkar-jingle-and-mingle/
LOCATION:Mia’s Table\, 23235 Kingsplace Dr.\, Katy\, TX\, 77494
END:VEVENT
BEGIN:VEVENT
DTSTART;TZID=America/Chicago:20251217T183000
DTEND;TZID=America/Chicago:20251217T203000
DTSTAMP:20260423T052810
CREATED:20251210T195132Z
LAST-MODIFIED:20251210T195812Z
UID:10000277-1765996200-1766003400@fbcgop.org
SUMMARY:Candidate Ballot Draw
DESCRIPTION:If you are a candidate in a contested race on the March 3\, 2026 primary ballot\, please come out to this event to draw for your position on the Fort Bend County ballot. All positions for all contested races will be determined at this time. If you or your designee are not present\, your ballot position will be drawn for you. \nSee you there!
URL:https://fbcgop.org/event/candidate-ballot-draw-2/
LOCATION:FBC GOP Headquarters\, 14019 SW Freeway #340\, Sugar Land\, TX\, 77478
ATTACH;FMTTYPE=image/jpeg:https://fbcgop.org/wp-content/uploads/2022/07/Logo-FortBendCounty_f.jpeg
ORGANIZER;CN="Fort Bend County Republican Party":MAILTO:communications@fbcgop.org
GEO:29.6192359;-95.6020068
X-APPLE-STRUCTURED-LOCATION;VALUE=URI;X-ADDRESS=FBC GOP Headquarters 14019 SW Freeway #340 Sugar Land TX 77478;X-APPLE-RADIUS=500;X-TITLE=14019 SW Freeway #340:geo:-95.6020068,29.6192359
END:VEVENT
BEGIN:VEVENT
DTSTART;TZID=America/Chicago:20260122T113000
DTEND;TZID=America/Chicago:20260122T133000
DTSTAMP:20260423T052810
CREATED:20251124T152901Z
LAST-MODIFIED:20251124T153005Z
UID:10000273-1769081400-1769088600@fbcgop.org
SUMMARY:RWCK Candidate Forum
DESCRIPTION:Come join the candidate forum!  Details on location are coming soon.
URL:https://fbcgop.org/event/rwck-candidate-forum/
LOCATION:TX
ATTACH;FMTTYPE=image/jpeg:https://fbcgop.org/wp-content/uploads/2022/07/RWCK.jpg
END:VEVENT
BEGIN:VEVENT
DTSTART;TZID=America/Chicago:20260128T110000
DTEND;TZID=America/Chicago:20260128T130000
DTSTAMP:20260423T052810
CREATED:20260115T224651Z
LAST-MODIFIED:20260115T224651Z
UID:10000278-1769598000-1769605200@fbcgop.org
SUMMARY:Fort Bend Republican Women’s Club Meeting
DESCRIPTION:January membership meeting will have a special candidate forum. \nFort Bend County Judge Candidate Forum \nCome Meet the Republican Candidates\nand Hear Their Views \nInvited Guests\nDaryl Aaron\nKP George\nKenneth Omoruyi\nMelissa Wilson\nDaniel Wong \nMeeting Information and RSVP link: CLICK HERE
URL:https://fbcgop.org/event/fort-bend-republican-womens-club-meeting/
LOCATION:FBC GOP Headquarters\, 14019 SW Freeway #340\, Sugar Land\, TX\, 77478
ATTACH;FMTTYPE=image/jpeg:https://fbcgop.org/wp-content/uploads/2023/03/FBRWC.jpg
ORGANIZER;CN="Fort Bend Republican Women's Club":MAILTO:mtmoffett@outlook.com
GEO:29.6192359;-95.6020068
X-APPLE-STRUCTURED-LOCATION;VALUE=URI;X-ADDRESS=FBC GOP Headquarters 14019 SW Freeway #340 Sugar Land TX 77478;X-APPLE-RADIUS=500;X-TITLE=14019 SW Freeway #340:geo:-95.6020068,29.6192359
END:VEVENT
BEGIN:VEVENT
DTSTART;TZID=America/Chicago:20260210T183000
DTEND;TZID=America/Chicago:20260210T203000
DTSTAMP:20260423T052810
CREATED:20260115T225211Z
LAST-MODIFIED:20260115T225211Z
UID:10000280-1770748200-1770755400@fbcgop.org
SUMMARY:FBC GOP Executive Committee Meeting
DESCRIPTION:Please make plans to attend the bi-monthly meeting of the Fort Bend County Republican Party Executive Committee. Meeting will be held at Safari Texas on Tuesday\, February 10.
URL:https://fbcgop.org/event/fbc-gop-executive-committee-meeting-14/
LOCATION:Safari Texas Ranch\, 11627 FM 1464\, Richmond\, TX\, 77407
ATTACH;FMTTYPE=image/jpeg:https://fbcgop.org/wp-content/uploads/2022/07/Logo-FortBendCounty_f.jpeg
ORGANIZER;CN="Fort Bend County Republican Party":MAILTO:communications@fbcgop.org
GEO:29.6461381;-95.6765086
X-APPLE-STRUCTURED-LOCATION;VALUE=URI;X-ADDRESS=Safari Texas Ranch 11627 FM 1464 Richmond TX 77407;X-APPLE-RADIUS=500;X-TITLE=11627 FM 1464:geo:-95.6765086,29.6461381
END:VEVENT
BEGIN:VEVENT
DTSTART;TZID=America/Chicago:20260225T110000
DTEND;TZID=America/Chicago:20260225T130000
DTSTAMP:20260423T052810
CREATED:20260115T224944Z
LAST-MODIFIED:20260115T224944Z
UID:10000279-1772017200-1772024400@fbcgop.org
SUMMARY:Fort Bend Republican Women’s Club Meeting
DESCRIPTION:An Update on the Fight Against Human\nTrafficking in Fort Bend County \nPresentation By \nRhonda Kuykendall\, MSW\nTask Force Director for the Fort Bend Anti-Trafficking Collective. \nTraci Bennett\nChief of the Special Crimes Division in the Fort Bend County District Attorney’s Office.  \nMeeting Information and RSVP link: CLICK HERE
URL:https://fbcgop.org/event/fort-bend-republican-womens-club-meeting-2/
LOCATION:FBC GOP Headquarters\, 14019 SW Freeway #340\, Sugar Land\, TX\, 77478
ATTACH;FMTTYPE=image/jpeg:https://fbcgop.org/wp-content/uploads/2023/03/FBRWC.jpg
ORGANIZER;CN="Fort Bend Republican Women's Club":MAILTO:mtmoffett@outlook.com
GEO:29.6192359;-95.6020068
X-APPLE-STRUCTURED-LOCATION;VALUE=URI;X-ADDRESS=FBC GOP Headquarters 14019 SW Freeway #340 Sugar Land TX 77478;X-APPLE-RADIUS=500;X-TITLE=14019 SW Freeway #340:geo:-95.6020068,29.6192359
END:VEVENT
BEGIN:VEVENT
DTSTART;TZID=America/Chicago:20260328T080000
DTEND;TZID=America/Chicago:20260328T160000
DTSTAMP:20260423T052810
CREATED:20260204T153256Z
LAST-MODIFIED:20260227T153856Z
UID:10000281-1774684800-1774713600@fbcgop.org
SUMMARY:Precinct and Senate District Conventions
DESCRIPTION:More details coming soon. \nPrecinct Conventions will be held first\, and this is your first step to becoming a delegate to your Senate District convention. \nLater in the morning\, delegates and alternates to the Senate District 13\, 17\, and 18 conventions will meet to discussion rules\, platform\, and more!  Delegates to the State Convention will also be chosen. \nContact Information: \nGeneral Information –> sdconventions@fbcgop.org \nSD 13 – Dale Gibble – dgibble@yahoo.com \nSD 17 – Tina Gibson – tinamgibson80@gmail.com \nSD 18 – Mickey Mixon – txrus99@gmail.com
URL:https://fbcgop.org/event/precinct-and-senate-district-conventions-2/
LOCATION:TX
ATTACH;FMTTYPE=image/jpeg:https://fbcgop.org/wp-content/uploads/2022/07/Logo-FortBendCounty_f.jpeg
END:VEVENT
BEGIN:VEVENT
DTSTART;TZID=America/Chicago:20260417T173000
DTEND;TZID=America/Chicago:20260417T210000
DTSTAMP:20260423T052810
CREATED:20260204T153850Z
LAST-MODIFIED:20260311T200718Z
UID:10000283-1776447000-1776459600@fbcgop.org
SUMMARY:Lincoln Reagan Dinner
DESCRIPTION:Tickets and sponsor tables are now available! \nCLICK HERE for more information.
URL:https://fbcgop.org/event/lincoln-reagan-dinner-2/
LOCATION:Safari Texas Ranch\, 11627 FM 1464\, Richmond\, TX\, 77407
ATTACH;FMTTYPE=image/jpeg:https://fbcgop.org/wp-content/uploads/2022/07/Logo-FortBendCounty_f.jpeg
ORGANIZER;CN="Fort Bend County Republican Party":MAILTO:communications@fbcgop.org
GEO:29.6461381;-95.6765086
X-APPLE-STRUCTURED-LOCATION;VALUE=URI;X-ADDRESS=Safari Texas Ranch 11627 FM 1464 Richmond TX 77407;X-APPLE-RADIUS=500;X-TITLE=11627 FM 1464:geo:-95.6765086,29.6461381
END:VEVENT
BEGIN:VEVENT
DTSTART;TZID=America/Chicago:20260422T110000
DTEND;TZID=America/Chicago:20260422T130000
DTSTAMP:20260423T052810
CREATED:20260311T145952Z
LAST-MODIFIED:20260311T145952Z
UID:10000284-1776855600-1776862800@fbcgop.org
SUMMARY:Fort Bend Republican Women's Club Meeting
DESCRIPTION:April Membership Meeting \nFeaturing \nKristin Tassin\nFBISD Board of Trustees\, President\, Position 6 \nPublic Education:  Why it Matters to Conservatives
URL:https://fbcgop.org/event/fort-bend-republican-womens-club-meeting-3/
LOCATION:FBC GOP Headquarters\, 14019 SW Freeway #340\, Sugar Land\, TX\, 77478
ATTACH;FMTTYPE=image/jpeg:https://fbcgop.org/wp-content/uploads/2023/03/FBRWC.jpg
ORGANIZER;CN="Fort Bend Republican Women's Club":MAILTO:mtmoffett@outlook.com
GEO:29.6192359;-95.6020068
X-APPLE-STRUCTURED-LOCATION;VALUE=URI;X-ADDRESS=FBC GOP Headquarters 14019 SW Freeway #340 Sugar Land TX 77478;X-APPLE-RADIUS=500;X-TITLE=14019 SW Freeway #340:geo:-95.6020068,29.6192359
END:VEVENT
BEGIN:VEVENT
DTSTART;VALUE=DATE:20260611
DTEND;VALUE=DATE:20260614
DTSTAMP:20260423T052810
CREATED:20260204T153700Z
LAST-MODIFIED:20260204T153700Z
UID:10000282-1781136000-1781395199@fbcgop.org
SUMMARY:Republican Party of Texas State Convention
DESCRIPTION:More Details Coming Soon!  Convention will be held in Houston\, TX.
URL:https://fbcgop.org/event/republican-party-of-texas-state-convention/
LOCATION:TX
ATTACH;FMTTYPE=image/png:https://fbcgop.org/wp-content/uploads/2023/12/GOPTexas.png
END:VEVENT
END:VCALENDAR