BEGIN:VCALENDAR
VERSION:2.0
PRODID:-//Fort Bend County Republican Party - ECPv6.14.0//NONSGML v1.0//EN
CALSCALE:GREGORIAN
METHOD:PUBLISH
X-WR-CALNAME:Fort Bend County Republican Party
X-ORIGINAL-URL:https://fbcgop.org
X-WR-CALDESC:Events for Fort Bend County Republican Party
REFRESH-INTERVAL;VALUE=DURATION:PT1H
X-Robots-Tag:noindex
X-PUBLISHED-TTL:PT1H
BEGIN:VTIMEZONE
TZID:America/Chicago
BEGIN:DAYLIGHT
TZOFFSETFROM:-0600
TZOFFSETTO:-0500
TZNAME:CDT
DTSTART:20260308T080000
END:DAYLIGHT
BEGIN:STANDARD
TZOFFSETFROM:-0500
TZOFFSETTO:-0600
TZNAME:CST
DTSTART:20261101T070000
END:STANDARD
END:VTIMEZONE
BEGIN:VEVENT
DTSTART;TZID=America/Chicago:20260422T110000
DTEND;TZID=America/Chicago:20260422T130000
DTSTAMP:20260422T054642
CREATED:20260311T145952Z
LAST-MODIFIED:20260311T145952Z
UID:10000284-1776855600-1776862800@fbcgop.org
SUMMARY:Fort Bend Republican Women's Club Meeting
DESCRIPTION:April Membership Meeting \nFeaturing \nKristin Tassin\nFBISD Board of Trustees\, President\, Position 6 \nPublic Education:  Why it Matters to Conservatives
URL:https://fbcgop.org/event/fort-bend-republican-womens-club-meeting-3/
LOCATION:FBC GOP Headquarters\, 14019 SW Freeway #340\, Sugar Land\, TX\, 77478
ATTACH;FMTTYPE=image/jpeg:https://fbcgop.org/wp-content/uploads/2023/03/FBRWC.jpg
ORGANIZER;CN="Fort Bend Republican Women's Club":MAILTO:mtmoffett@outlook.com
GEO:29.6192359;-95.6020068
X-APPLE-STRUCTURED-LOCATION;VALUE=URI;X-ADDRESS=FBC GOP Headquarters 14019 SW Freeway #340 Sugar Land TX 77478;X-APPLE-RADIUS=500;X-TITLE=14019 SW Freeway #340:geo:-95.6020068,29.6192359
END:VEVENT
END:VCALENDAR